BEGIN:VCALENDAR
VERSION:2.0
PRODID:-//Community Living Owen Sound and District - ECPv6.15.11//NONSGML v1.0//EN
CALSCALE:GREGORIAN
METHOD:PUBLISH
X-WR-CALNAME:Community Living Owen Sound and District
X-ORIGINAL-URL:https://staging.communitylivingowensound.com
X-WR-CALDESC:Events for Community Living Owen Sound and District
REFRESH-INTERVAL;VALUE=DURATION:PT1H
X-Robots-Tag:noindex
X-PUBLISHED-TTL:PT1H
BEGIN:VTIMEZONE
TZID:America/Toronto
BEGIN:DAYLIGHT
TZOFFSETFROM:-0500
TZOFFSETTO:-0400
TZNAME:EDT
DTSTART:20230312T070000
END:DAYLIGHT
BEGIN:STANDARD
TZOFFSETFROM:-0400
TZOFFSETTO:-0500
TZNAME:EST
DTSTART:20231105T060000
END:STANDARD
BEGIN:DAYLIGHT
TZOFFSETFROM:-0500
TZOFFSETTO:-0400
TZNAME:EDT
DTSTART:20240310T070000
END:DAYLIGHT
BEGIN:STANDARD
TZOFFSETFROM:-0400
TZOFFSETTO:-0500
TZNAME:EST
DTSTART:20241103T060000
END:STANDARD
BEGIN:DAYLIGHT
TZOFFSETFROM:-0500
TZOFFSETTO:-0400
TZNAME:EDT
DTSTART:20250309T070000
END:DAYLIGHT
BEGIN:STANDARD
TZOFFSETFROM:-0400
TZOFFSETTO:-0500
TZNAME:EST
DTSTART:20251102T060000
END:STANDARD
END:VTIMEZONE
BEGIN:VEVENT
DTSTART;TZID=America/Toronto:20241216T080000
DTEND;TZID=America/Toronto:20241216T170000
DTSTAMP:20260420T004510
CREATED:20241202T161259Z
LAST-MODIFIED:20241202T161315Z
UID:10000926-1734336000-1734368400@staging.communitylivingowensound.com
SUMMARY:Chocolate Bomb DIY
DESCRIPTION:CHOCOLATE BOMB DIY – Main Office OS – $35 per person Monday\, December 16\, 2024 – 2:30pm – 5:00pm\nCome join us as we make delicious hot chocolate bombs to have for yourself or give away as a gift!
URL:https://staging.communitylivingowensound.com/event/chocolate-bomb-diy/
CATEGORIES:Passport
ATTACH;FMTTYPE=image/jpeg:https://staging.communitylivingowensound.com/wp-content/uploads/2024/12/hot-choc-bomb.jpg
END:VEVENT
BEGIN:VEVENT
DTSTART;TZID=America/Toronto:20241216T080000
DTEND;TZID=America/Toronto:20241216T170000
DTSTAMP:20260420T004510
CREATED:20241202T161421Z
LAST-MODIFIED:20241202T161421Z
UID:10000927-1734336000-1734368400@staging.communitylivingowensound.com
SUMMARY:Christmas Cookie Baking
DESCRIPTION:Monday\, December 16\, 2024 – 2:00pm – 4:00pm\nCome join us for some delicious holiday cookie baking!
URL:https://staging.communitylivingowensound.com/event/christmas-cookie-baking/
CATEGORIES:Passport
ATTACH;FMTTYPE=image/jpeg:https://staging.communitylivingowensound.com/wp-content/uploads/2024/12/christmas-cookies.jpg
END:VEVENT
END:VCALENDAR