BEGIN:VCALENDAR
VERSION:2.0
PRODID:-//Community Living Owen Sound and District - ECPv6.15.11//NONSGML v1.0//EN
CALSCALE:GREGORIAN
METHOD:PUBLISH
X-WR-CALNAME:Community Living Owen Sound and District
X-ORIGINAL-URL:https://staging.communitylivingowensound.com
X-WR-CALDESC:Events for Community Living Owen Sound and District
REFRESH-INTERVAL;VALUE=DURATION:PT1H
X-Robots-Tag:noindex
X-PUBLISHED-TTL:PT1H
BEGIN:VTIMEZONE
TZID:America/Toronto
BEGIN:DAYLIGHT
TZOFFSETFROM:-0500
TZOFFSETTO:-0400
TZNAME:EDT
DTSTART:20230312T070000
END:DAYLIGHT
BEGIN:STANDARD
TZOFFSETFROM:-0400
TZOFFSETTO:-0500
TZNAME:EST
DTSTART:20231105T060000
END:STANDARD
BEGIN:DAYLIGHT
TZOFFSETFROM:-0500
TZOFFSETTO:-0400
TZNAME:EDT
DTSTART:20240310T070000
END:DAYLIGHT
BEGIN:STANDARD
TZOFFSETFROM:-0400
TZOFFSETTO:-0500
TZNAME:EST
DTSTART:20241103T060000
END:STANDARD
BEGIN:DAYLIGHT
TZOFFSETFROM:-0500
TZOFFSETTO:-0400
TZNAME:EDT
DTSTART:20250309T070000
END:DAYLIGHT
BEGIN:STANDARD
TZOFFSETFROM:-0400
TZOFFSETTO:-0500
TZNAME:EST
DTSTART:20251102T060000
END:STANDARD
END:VTIMEZONE
BEGIN:VEVENT
DTSTART;TZID=America/Toronto:20241219T080000
DTEND;TZID=America/Toronto:20241219T170000
DTSTAMP:20260421T035827
CREATED:20241202T161628Z
LAST-MODIFIED:20241202T161628Z
UID:10000929-1734595200-1734627600@staging.communitylivingowensound.com
SUMMARY:Present and Gift Wrapping
DESCRIPTION:PRESENT WRAPPING – Main Office OS $28 per person Thursday\, December 19\, 2024 – 1:00pm – 4:00pm\nDo you need some help getting those presents wrapped and bagged? We can help you do so! Enjoy listening to Christmas carols and drinking hot chocolate while we get presents wrapped and bake cookies. Bring any presents you want wrapped.
URL:https://staging.communitylivingowensound.com/event/present-and-gift-wrapping/
CATEGORIES:Passport
ATTACH;FMTTYPE=image/jpeg:https://staging.communitylivingowensound.com/wp-content/uploads/2024/12/gift-wrap.jpg
END:VEVENT
BEGIN:VEVENT
DTSTART;TZID=America/Toronto:20241219T080000
DTEND;TZID=America/Toronto:20241219T170000
DTSTAMP:20260421T035827
CREATED:20241202T161740Z
LAST-MODIFIED:20241202T161740Z
UID:10000930-1734595200-1734627600@staging.communitylivingowensound.com
SUMMARY:Dinos Alive
DESCRIPTION:Thursday\, December 19\, 2024 – 9:00am – 5:00pm Toronto\nImmerse yourself among over 40 species of dinosaurs in a thrilling adventure. A perfect experience for all ages!
URL:https://staging.communitylivingowensound.com/event/dinos-alive/
CATEGORIES:Passport
ATTACH;FMTTYPE=image/jpeg:https://staging.communitylivingowensound.com/wp-content/uploads/2024/12/dinosaurs.jpg
END:VEVENT
END:VCALENDAR