BEGIN:VCALENDAR
VERSION:2.0
PRODID:-//Community Living Owen Sound and District - ECPv6.15.11//NONSGML v1.0//EN
CALSCALE:GREGORIAN
METHOD:PUBLISH
X-WR-CALNAME:Community Living Owen Sound and District
X-ORIGINAL-URL:https://staging.communitylivingowensound.com
X-WR-CALDESC:Events for Community Living Owen Sound and District
REFRESH-INTERVAL;VALUE=DURATION:PT1H
X-Robots-Tag:noindex
X-PUBLISHED-TTL:PT1H
BEGIN:VTIMEZONE
TZID:America/Toronto
BEGIN:DAYLIGHT
TZOFFSETFROM:-0500
TZOFFSETTO:-0400
TZNAME:EDT
DTSTART:20230312T070000
END:DAYLIGHT
BEGIN:STANDARD
TZOFFSETFROM:-0400
TZOFFSETTO:-0500
TZNAME:EST
DTSTART:20231105T060000
END:STANDARD
BEGIN:DAYLIGHT
TZOFFSETFROM:-0500
TZOFFSETTO:-0400
TZNAME:EDT
DTSTART:20240310T070000
END:DAYLIGHT
BEGIN:STANDARD
TZOFFSETFROM:-0400
TZOFFSETTO:-0500
TZNAME:EST
DTSTART:20241103T060000
END:STANDARD
BEGIN:DAYLIGHT
TZOFFSETFROM:-0500
TZOFFSETTO:-0400
TZNAME:EDT
DTSTART:20250309T070000
END:DAYLIGHT
BEGIN:STANDARD
TZOFFSETFROM:-0400
TZOFFSETTO:-0500
TZNAME:EST
DTSTART:20251102T060000
END:STANDARD
END:VTIMEZONE
BEGIN:VEVENT
DTSTART;TZID=America/Toronto:20241223T080000
DTEND;TZID=America/Toronto:20241223T170000
DTSTAMP:20260423T213035
CREATED:20241202T162223Z
LAST-MODIFIED:20241202T162223Z
UID:10000932-1734940800-1734973200@staging.communitylivingowensound.com
SUMMARY:Illumini - Toronto
DESCRIPTION:ILLUMINI – Toronto\, ON Meet: Main Office OS – $115 per person Monday\, December 23\, 2024 – 6:00pm – 12:30am\nA dazzling world of lights\, where the night comes alive\, and the lights unveil a sizzling new universe
URL:https://staging.communitylivingowensound.com/event/illumini-toronto/
CATEGORIES:Passport
ATTACH;FMTTYPE=image/jpeg:https://staging.communitylivingowensound.com/wp-content/uploads/2024/12/illumini.jpg
END:VEVENT
END:VCALENDAR