BEGIN:VCALENDAR
VERSION:2.0
PRODID:-//Community Living Owen Sound and District - ECPv6.15.11//NONSGML v1.0//EN
CALSCALE:GREGORIAN
METHOD:PUBLISH
X-ORIGINAL-URL:https://staging.communitylivingowensound.com
X-WR-CALDESC:Events for Community Living Owen Sound and District
REFRESH-INTERVAL;VALUE=DURATION:PT1H
X-Robots-Tag:noindex
X-PUBLISHED-TTL:PT1H
BEGIN:VTIMEZONE
TZID:America/Toronto
BEGIN:DAYLIGHT
TZOFFSETFROM:-0500
TZOFFSETTO:-0400
TZNAME:EDT
DTSTART:20240310T070000
END:DAYLIGHT
BEGIN:STANDARD
TZOFFSETFROM:-0400
TZOFFSETTO:-0500
TZNAME:EST
DTSTART:20241103T060000
END:STANDARD
BEGIN:DAYLIGHT
TZOFFSETFROM:-0500
TZOFFSETTO:-0400
TZNAME:EDT
DTSTART:20250309T070000
END:DAYLIGHT
BEGIN:STANDARD
TZOFFSETFROM:-0400
TZOFFSETTO:-0500
TZNAME:EST
DTSTART:20251102T060000
END:STANDARD
BEGIN:DAYLIGHT
TZOFFSETFROM:-0500
TZOFFSETTO:-0400
TZNAME:EDT
DTSTART:20260308T070000
END:DAYLIGHT
BEGIN:STANDARD
TZOFFSETFROM:-0400
TZOFFSETTO:-0500
TZNAME:EST
DTSTART:20261101T060000
END:STANDARD
END:VTIMEZONE
BEGIN:VEVENT
DTSTART;TZID=America/Toronto:20250109T090000
DTEND;TZID=America/Toronto:20250109T110000
DTSTAMP:20260422T232334
CREATED:20250103T180335Z
LAST-MODIFIED:20250103T180335Z
UID:10000944-1736413200-1736420400@staging.communitylivingowensound.com
SUMMARY:Cooking Class: Chocolate Chip Muffins
DESCRIPTION:CHOCOLATE CHIP MUFFINS – Main Office Owen Sound – $45 per person Thursday\, January 9\, 2025 – 9:00am – 11:30am\nSavour this classic for breakfast\, dessert or mid-day snack!
URL:https://staging.communitylivingowensound.com/event/cooking-class-chocolate-chip-muffins/
CATEGORIES:Passport
ATTACH;FMTTYPE=image/jpeg:https://staging.communitylivingowensound.com/wp-content/uploads/2025/01/choc-chip-muffins.jpg
END:VEVENT
BEGIN:VEVENT
DTSTART;TZID=America/Toronto:20250109T130000
DTEND;TZID=America/Toronto:20250109T163000
DTSTAMP:20260422T232334
CREATED:20250103T180516Z
LAST-MODIFIED:20250103T180516Z
UID:10000945-1736427600-1736440200@staging.communitylivingowensound.com
SUMMARY:Hot Chocolate & a Walk
DESCRIPTION:HOT CHOCOLATE & A WALK – Meet Main Office Owen Sound – $30 per person Thursday\, January 9\, 2025 – 1:00pm – 4:00pm\nLet’s take a walk through Harrison Park and enjoy the snowy paths. Afterwards\, bring some money to get a hot drink to warm up and chat with friends!
URL:https://staging.communitylivingowensound.com/event/hot-chocolate-a-walk/
CATEGORIES:Passport
ATTACH;FMTTYPE=image/jpeg:https://staging.communitylivingowensound.com/wp-content/uploads/2025/01/walk-and-hot-choc.jpg
END:VEVENT
BEGIN:VEVENT
DTSTART;TZID=America/Toronto:20250109T190000
DTEND;TZID=America/Toronto:20250109T220000
DTSTAMP:20260422T232334
CREATED:20250103T180829Z
LAST-MODIFIED:20250103T180829Z
UID:10000946-1736449200-1736460000@staging.communitylivingowensound.com
SUMMARY:Mudmen at the Roxy
DESCRIPTION:MUDMEN AT THE ROXY – Meet Owen Sound Main Office – $70 per person Thursday\, January 9\, 2025 – 7:00pm – 10:00pm\nCome rock the night away as we listen to Mudmen a Celtic rock band!
URL:https://staging.communitylivingowensound.com/event/mudmen-at-the-roxy/
CATEGORIES:Passport
ATTACH;FMTTYPE=image/jpeg:https://staging.communitylivingowensound.com/wp-content/uploads/2024/03/live-music.jpg
END:VEVENT
END:VCALENDAR