BEGIN:VCALENDAR
VERSION:2.0
PRODID:-//Community Living Owen Sound and District - ECPv6.15.11//NONSGML v1.0//EN
CALSCALE:GREGORIAN
METHOD:PUBLISH
X-WR-CALNAME:Community Living Owen Sound and District
X-ORIGINAL-URL:https://staging.communitylivingowensound.com
X-WR-CALDESC:Events for Community Living Owen Sound and District
REFRESH-INTERVAL;VALUE=DURATION:PT1H
X-Robots-Tag:noindex
X-PUBLISHED-TTL:PT1H
BEGIN:VTIMEZONE
TZID:America/Toronto
BEGIN:DAYLIGHT
TZOFFSETFROM:-0500
TZOFFSETTO:-0400
TZNAME:EDT
DTSTART:20240310T070000
END:DAYLIGHT
BEGIN:STANDARD
TZOFFSETFROM:-0400
TZOFFSETTO:-0500
TZNAME:EST
DTSTART:20241103T060000
END:STANDARD
BEGIN:DAYLIGHT
TZOFFSETFROM:-0500
TZOFFSETTO:-0400
TZNAME:EDT
DTSTART:20250309T070000
END:DAYLIGHT
BEGIN:STANDARD
TZOFFSETFROM:-0400
TZOFFSETTO:-0500
TZNAME:EST
DTSTART:20251102T060000
END:STANDARD
BEGIN:DAYLIGHT
TZOFFSETFROM:-0500
TZOFFSETTO:-0400
TZNAME:EDT
DTSTART:20260308T070000
END:DAYLIGHT
BEGIN:STANDARD
TZOFFSETFROM:-0400
TZOFFSETTO:-0500
TZNAME:EST
DTSTART:20261101T060000
END:STANDARD
END:VTIMEZONE
BEGIN:VEVENT
DTSTART;TZID=America/Toronto:20250116T090000
DTEND;TZID=America/Toronto:20250116T120000
DTSTAMP:20260420T175311
CREATED:20250103T182017Z
LAST-MODIFIED:20250103T182017Z
UID:10000951-1737018000-1737028800@staging.communitylivingowensound.com
SUMMARY:DIY sugar scrub
DESCRIPTION:DIY SUGAR SCRUB – Main Office Owen Sound – $46 per person Thursday\, January 16\, 2025 – 9:00am – 12:00pm\nSpend the morning making a sugar scrub to exfoliate your dry skin during these bitter winter months.
URL:https://staging.communitylivingowensound.com/event/diy-sugar-scrub/
CATEGORIES:Passport
ATTACH;FMTTYPE=image/jpeg:https://staging.communitylivingowensound.com/wp-content/uploads/2025/01/DIY-sugar-scrub.jpg
END:VEVENT
BEGIN:VEVENT
DTSTART;TZID=America/Toronto:20250116T113000
DTEND;TZID=America/Toronto:20250116T133000
DTSTAMP:20260420T175311
CREATED:20250103T182317Z
LAST-MODIFIED:20250103T182317Z
UID:10000952-1737027000-1737034200@staging.communitylivingowensound.com
SUMMARY:Ice Skating
DESCRIPTION:ICE SKATING – Meet Owen Sound Main Office – $22 per person Thursday\, January 16\, 2025 – 11:30am – 1:30pm\nBreak out your ice skates as we head over to Harrison Park outdoor rink (weather permitting) or at the Bayshore inside. Must be independent with your skating skills.
URL:https://staging.communitylivingowensound.com/event/ice-skating/
CATEGORIES:Passport
ATTACH;FMTTYPE=image/jpeg:https://staging.communitylivingowensound.com/wp-content/uploads/2025/01/ice-skating.jpg
END:VEVENT
BEGIN:VEVENT
DTSTART;TZID=America/Toronto:20250116T130000
DTEND;TZID=America/Toronto:20250116T160000
DTSTAMP:20260420T175311
CREATED:20250103T182605Z
LAST-MODIFIED:20250103T182605Z
UID:10000953-1737032400-1737043200@staging.communitylivingowensound.com
SUMMARY:Cooking class: Homemade Granola Bars
DESCRIPTION:HOMEMADE GRANOLA BARS – Owen Sound Main Office – $54 per person Thursday\, January 16\, 2025 – 1:00pm – 4:00pm\nLet’s make some traditional chocolate chip granola bars from scratch to take home!
URL:https://staging.communitylivingowensound.com/event/cooking-class-homemade-granola-bars/
CATEGORIES:Passport
ATTACH;FMTTYPE=image/jpeg:https://staging.communitylivingowensound.com/wp-content/uploads/2025/01/granola-bars.jpg
END:VEVENT
END:VCALENDAR