BEGIN:VCALENDAR
VERSION:2.0
PRODID:-//Community Living Owen Sound and District - ECPv6.15.11//NONSGML v1.0//EN
CALSCALE:GREGORIAN
METHOD:PUBLISH
X-WR-CALNAME:Community Living Owen Sound and District
X-ORIGINAL-URL:https://staging.communitylivingowensound.com
X-WR-CALDESC:Events for Community Living Owen Sound and District
REFRESH-INTERVAL;VALUE=DURATION:PT1H
X-Robots-Tag:noindex
X-PUBLISHED-TTL:PT1H
BEGIN:VTIMEZONE
TZID:America/Toronto
BEGIN:DAYLIGHT
TZOFFSETFROM:-0500
TZOFFSETTO:-0400
TZNAME:EDT
DTSTART:20240310T070000
END:DAYLIGHT
BEGIN:STANDARD
TZOFFSETFROM:-0400
TZOFFSETTO:-0500
TZNAME:EST
DTSTART:20241103T060000
END:STANDARD
BEGIN:DAYLIGHT
TZOFFSETFROM:-0500
TZOFFSETTO:-0400
TZNAME:EDT
DTSTART:20250309T070000
END:DAYLIGHT
BEGIN:STANDARD
TZOFFSETFROM:-0400
TZOFFSETTO:-0500
TZNAME:EST
DTSTART:20251102T060000
END:STANDARD
BEGIN:DAYLIGHT
TZOFFSETFROM:-0500
TZOFFSETTO:-0400
TZNAME:EDT
DTSTART:20260308T070000
END:DAYLIGHT
BEGIN:STANDARD
TZOFFSETFROM:-0400
TZOFFSETTO:-0500
TZNAME:EST
DTSTART:20261101T060000
END:STANDARD
END:VTIMEZONE
BEGIN:VEVENT
DTSTART;TZID=America/Toronto:20250211T093000
DTEND;TZID=America/Toronto:20250211T113000
DTSTAMP:20260424T112109
CREATED:20250109T163059Z
LAST-MODIFIED:20250109T163059Z
UID:10001239-1739266200-1739273400@staging.communitylivingowensound.com
SUMMARY:Breakfast Club
DESCRIPTION:Tuesday February 11 2025\nBreakfast Club- ROCKFORD\, OWEN SOUND- $20 per person  \nJoin us as we head to Rockford Restaurant for breakfast.  Meet friends new and old\, and enjoy a yummy breakfast.  You will need to bring your own spending money for your breakfast order.\n9:30am – 11:30am
URL:https://staging.communitylivingowensound.com/event/breakfast-club-5/
CATEGORIES:Passport
ATTACH;FMTTYPE=image/jpeg:https://staging.communitylivingowensound.com/wp-content/uploads/2024/02/breakfast-with-friends.jpg
END:VEVENT
BEGIN:VEVENT
DTSTART;TZID=America/Toronto:20250211T150000
DTEND;TZID=America/Toronto:20250211T180000
DTSTAMP:20260424T112109
CREATED:20240207T202046Z
LAST-MODIFIED:20240207T202046Z
UID:10000080-1739286000-1739296800@staging.communitylivingowensound.com
SUMMARY:Billiards and Darts (Port Elgin)
DESCRIPTION:Tuesdays March 5\, 12\, 19\, 26 2024\nBilliards & Darts- PE LEGION\, PORT ELGIN- $ To Be Determined \nCome enjoy a few games of pool and darts at the local legion! You can attend each week\, or choose the weeks you’d like to come.\n3pm – 6pm\nRSVP to Lisa Penny @   lpenny@comlivos.on.ca
URL:https://staging.communitylivingowensound.com/event/billiards-and-darts-port-elgin/2025-02-11/
CATEGORIES:Passport
ATTACH;FMTTYPE=image/jpeg:https://staging.communitylivingowensound.com/wp-content/uploads/2024/02/billiards-and-darts.jpg
END:VEVENT
END:VCALENDAR