BEGIN:VCALENDAR
VERSION:2.0
PRODID:-//Community Living Owen Sound and District - ECPv6.15.11//NONSGML v1.0//EN
CALSCALE:GREGORIAN
METHOD:PUBLISH
X-WR-CALNAME:Community Living Owen Sound and District
X-ORIGINAL-URL:https://staging.communitylivingowensound.com
X-WR-CALDESC:Events for Community Living Owen Sound and District
REFRESH-INTERVAL;VALUE=DURATION:PT1H
X-Robots-Tag:noindex
X-PUBLISHED-TTL:PT1H
BEGIN:VTIMEZONE
TZID:America/Toronto
BEGIN:DAYLIGHT
TZOFFSETFROM:-0500
TZOFFSETTO:-0400
TZNAME:EDT
DTSTART:20240310T070000
END:DAYLIGHT
BEGIN:STANDARD
TZOFFSETFROM:-0400
TZOFFSETTO:-0500
TZNAME:EST
DTSTART:20241103T060000
END:STANDARD
BEGIN:DAYLIGHT
TZOFFSETFROM:-0500
TZOFFSETTO:-0400
TZNAME:EDT
DTSTART:20250309T070000
END:DAYLIGHT
BEGIN:STANDARD
TZOFFSETFROM:-0400
TZOFFSETTO:-0500
TZNAME:EST
DTSTART:20251102T060000
END:STANDARD
BEGIN:DAYLIGHT
TZOFFSETFROM:-0500
TZOFFSETTO:-0400
TZNAME:EDT
DTSTART:20260308T070000
END:DAYLIGHT
BEGIN:STANDARD
TZOFFSETFROM:-0400
TZOFFSETTO:-0500
TZNAME:EST
DTSTART:20261101T060000
END:STANDARD
END:VTIMEZONE
BEGIN:VEVENT
DTSTART;TZID=America/Toronto:20250227T120000
DTEND;TZID=America/Toronto:20250227T143000
DTSTAMP:20260420T004337
CREATED:20250109T185633Z
LAST-MODIFIED:20250109T185633Z
UID:10001255-1740657600-1740666600@staging.communitylivingowensound.com
SUMMARY:Billiards and Bowling
DESCRIPTION:Thursday February 27 2025\nBilliards and Bowling- MAIN OFFICE\, OWEN SOUND- $51 person  \nJoin us for an afternoon of fun!\n12pm – 2:30pm
URL:https://staging.communitylivingowensound.com/event/billiards-and-bowling-3/
CATEGORIES:Passport
ATTACH;FMTTYPE=image/jpeg:https://staging.communitylivingowensound.com/wp-content/uploads/2025/01/bowling-and-billiards.jpg
END:VEVENT
BEGIN:VEVENT
DTSTART;TZID=America/Toronto:20250227T150000
DTEND;TZID=America/Toronto:20250227T160000
DTSTAMP:20260420T004337
CREATED:20250109T185820Z
LAST-MODIFIED:20250109T185820Z
UID:10001256-1740668400-1740672000@staging.communitylivingowensound.com
SUMMARY:Axe Throwing
DESCRIPTION:Thursday February 27 2025\nAxe Throwing- MAIN OFFICE\, OWEN SOUND- $45 per person  \nSee if you can hit the target while you give axe throwing a try!\n3pm – 4pm
URL:https://staging.communitylivingowensound.com/event/axe-throwing/
CATEGORIES:Passport
ATTACH;FMTTYPE=image/jpeg:https://staging.communitylivingowensound.com/wp-content/uploads/2025/01/axe-throwing.jpg
END:VEVENT
END:VCALENDAR