BEGIN:VCALENDAR
VERSION:2.0
PRODID:-//Community Living Owen Sound and District - ECPv6.15.11//NONSGML v1.0//EN
CALSCALE:GREGORIAN
METHOD:PUBLISH
X-WR-CALNAME:Community Living Owen Sound and District
X-ORIGINAL-URL:https://staging.communitylivingowensound.com
X-WR-CALDESC:Events for Community Living Owen Sound and District
REFRESH-INTERVAL;VALUE=DURATION:PT1H
X-Robots-Tag:noindex
X-PUBLISHED-TTL:PT1H
BEGIN:VTIMEZONE
TZID:America/Toronto
BEGIN:DAYLIGHT
TZOFFSETFROM:-0500
TZOFFSETTO:-0400
TZNAME:EDT
DTSTART:20240310T070000
END:DAYLIGHT
BEGIN:STANDARD
TZOFFSETFROM:-0400
TZOFFSETTO:-0500
TZNAME:EST
DTSTART:20241103T060000
END:STANDARD
BEGIN:DAYLIGHT
TZOFFSETFROM:-0500
TZOFFSETTO:-0400
TZNAME:EDT
DTSTART:20250309T070000
END:DAYLIGHT
BEGIN:STANDARD
TZOFFSETFROM:-0400
TZOFFSETTO:-0500
TZNAME:EST
DTSTART:20251102T060000
END:STANDARD
BEGIN:DAYLIGHT
TZOFFSETFROM:-0500
TZOFFSETTO:-0400
TZNAME:EDT
DTSTART:20260308T070000
END:DAYLIGHT
BEGIN:STANDARD
TZOFFSETFROM:-0400
TZOFFSETTO:-0500
TZNAME:EST
DTSTART:20261101T060000
END:STANDARD
END:VTIMEZONE
BEGIN:VEVENT
DTSTART;TZID=America/Toronto:20250304T090000
DTEND;TZID=America/Toronto:20250304T113000
DTSTAMP:20260421T074910
CREATED:20250225T185524Z
LAST-MODIFIED:20250225T185948Z
UID:10001259-1741078800-1741087800@staging.communitylivingowensound.com
SUMMARY:Pancake Tuesday
DESCRIPTION:Pancake Tuesday\nDate: March 4 Time: 9-11am Cost: $20 \nRSVP by: February 25 Location: Main Office \nCelebrate Pancake Tuesday with a delicious stack of pancakes and all your favorite toppings!
URL:https://staging.communitylivingowensound.com/event/pancake-tuesday/
CATEGORIES:Passport
ATTACH;FMTTYPE=image/jpeg:https://staging.communitylivingowensound.com/wp-content/uploads/2025/02/pancakes.jpg
END:VEVENT
BEGIN:VEVENT
DTSTART;TZID=America/Toronto:20250304T123000
DTEND;TZID=America/Toronto:20250304T133000
DTSTAMP:20260421T074910
CREATED:20250225T185731Z
LAST-MODIFIED:20250225T190048Z
UID:10001263-1741091400-1741095000@staging.communitylivingowensound.com
SUMMARY:Skating
DESCRIPTION:Skating\nDate: March 4 & 18 Time: 12-1:30pm Cost: $20 \nRSVP by: February 25 \nLocation: Bayshore or Harrison Park \nCome enjoy a fun afternoon on the ice. Whether you’re a beginner or a pro\, it’s all about having fun! Must be able to skate independently. Bring a helmet if desired Come once or both times!
URL:https://staging.communitylivingowensound.com/event/skating/2025-03-04/
CATEGORIES:Passport
ATTACH;FMTTYPE=image/jpeg:https://staging.communitylivingowensound.com/wp-content/uploads/2025/01/ice-skating-1.jpg
END:VEVENT
BEGIN:VEVENT
DTSTART;TZID=America/Toronto:20250304T130000
DTEND;TZID=America/Toronto:20250304T160000
DTSTAMP:20260421T074910
CREATED:20250225T185901Z
LAST-MODIFIED:20250225T185901Z
UID:10001262-1741093200-1741104000@staging.communitylivingowensound.com
SUMMARY:Rock Climbing
DESCRIPTION:Rock Climbing\n  \nDate: March 4 Time: 1-4pm Cost: $65\nRSVP by: February 25 Location: Climber Crush OS \nTest your strength and endurance at our rock climbing event. A great challenge for all skill levels!
URL:https://staging.communitylivingowensound.com/event/rock-climbing/
CATEGORIES:Passport
ATTACH;FMTTYPE=image/jpeg:https://staging.communitylivingowensound.com/wp-content/uploads/2025/02/rock-climbing.jpg
END:VEVENT
BEGIN:VEVENT
DTSTART;TZID=America/Toronto:20250304T150000
DTEND;TZID=America/Toronto:20250304T180000
DTSTAMP:20260421T074910
CREATED:20240207T202046Z
LAST-MODIFIED:20240207T202046Z
UID:10000083-1741100400-1741111200@staging.communitylivingowensound.com
SUMMARY:Billiards and Darts (Port Elgin)
DESCRIPTION:Tuesdays March 5\, 12\, 19\, 26 2024\nBilliards & Darts- PE LEGION\, PORT ELGIN- $ To Be Determined \nCome enjoy a few games of pool and darts at the local legion! You can attend each week\, or choose the weeks you’d like to come.\n3pm – 6pm\nRSVP to Lisa Penny @   lpenny@comlivos.on.ca
URL:https://staging.communitylivingowensound.com/event/billiards-and-darts-port-elgin/2025-03-04/
CATEGORIES:Passport
ATTACH;FMTTYPE=image/jpeg:https://staging.communitylivingowensound.com/wp-content/uploads/2024/02/billiards-and-darts.jpg
END:VEVENT
END:VCALENDAR