BEGIN:VCALENDAR
VERSION:2.0
PRODID:-//Community Living Owen Sound and District - ECPv6.15.11//NONSGML v1.0//EN
CALSCALE:GREGORIAN
METHOD:PUBLISH
X-WR-CALNAME:Community Living Owen Sound and District
X-ORIGINAL-URL:https://staging.communitylivingowensound.com
X-WR-CALDESC:Events for Community Living Owen Sound and District
REFRESH-INTERVAL;VALUE=DURATION:PT1H
X-Robots-Tag:noindex
X-PUBLISHED-TTL:PT1H
BEGIN:VTIMEZONE
TZID:America/Toronto
BEGIN:DAYLIGHT
TZOFFSETFROM:-0500
TZOFFSETTO:-0400
TZNAME:EDT
DTSTART:20240310T070000
END:DAYLIGHT
BEGIN:STANDARD
TZOFFSETFROM:-0400
TZOFFSETTO:-0500
TZNAME:EST
DTSTART:20241103T060000
END:STANDARD
BEGIN:DAYLIGHT
TZOFFSETFROM:-0500
TZOFFSETTO:-0400
TZNAME:EDT
DTSTART:20250309T070000
END:DAYLIGHT
BEGIN:STANDARD
TZOFFSETFROM:-0400
TZOFFSETTO:-0500
TZNAME:EST
DTSTART:20251102T060000
END:STANDARD
BEGIN:DAYLIGHT
TZOFFSETFROM:-0500
TZOFFSETTO:-0400
TZNAME:EDT
DTSTART:20260308T070000
END:DAYLIGHT
BEGIN:STANDARD
TZOFFSETFROM:-0400
TZOFFSETTO:-0500
TZNAME:EST
DTSTART:20261101T060000
END:STANDARD
END:VTIMEZONE
BEGIN:VEVENT
DTSTART;TZID=America/Toronto:20250321T090000
DTEND;TZID=America/Toronto:20250321T110000
DTSTAMP:20260419T224620
CREATED:20250226T195920Z
LAST-MODIFIED:20250226T195920Z
UID:10001283-1742547600-1742554800@staging.communitylivingowensound.com
SUMMARY:Cooking Class: Banana Muffins
DESCRIPTION:Banana Muffins\nDate: March 21 Time: 9-11am Cost: $35 \nRSVP by: March 12 Location: Main Office \nWho doesn’t love banana muffins? \nCome bake a batch from scratch with us!
URL:https://staging.communitylivingowensound.com/event/cooking-class-banana-muffins/
CATEGORIES:Passport
ATTACH;FMTTYPE=image/jpeg:https://staging.communitylivingowensound.com/wp-content/uploads/2025/02/banana-muffins.jpg
END:VEVENT
BEGIN:VEVENT
DTSTART;TZID=America/Toronto:20250321T130000
DTEND;TZID=America/Toronto:20250321T160000
DTSTAMP:20260419T224620
CREATED:20250226T200133Z
LAST-MODIFIED:20250226T200133Z
UID:10001284-1742562000-1742572800@staging.communitylivingowensound.com
SUMMARY:Book Club
DESCRIPTION:Book Club\n  \nDate: March 21 Time: 1-4pm Cost: $29\nRSVP by: March 13 \nLocation: Main Office \nJoin our book club and enjoy some lively discussion about the latest must-reads!
URL:https://staging.communitylivingowensound.com/event/book-club/
CATEGORIES:Passport
ATTACH;FMTTYPE=image/jpeg:https://staging.communitylivingowensound.com/wp-content/uploads/2025/02/book-club.jpg
END:VEVENT
END:VCALENDAR