BEGIN:VCALENDAR
VERSION:2.0
PRODID:-//Community Living Owen Sound and District - ECPv6.15.11//NONSGML v1.0//EN
CALSCALE:GREGORIAN
METHOD:PUBLISH
X-WR-CALNAME:Community Living Owen Sound and District
X-ORIGINAL-URL:https://staging.communitylivingowensound.com
X-WR-CALDESC:Events for Community Living Owen Sound and District
REFRESH-INTERVAL;VALUE=DURATION:PT1H
X-Robots-Tag:noindex
X-PUBLISHED-TTL:PT1H
BEGIN:VTIMEZONE
TZID:America/Toronto
BEGIN:DAYLIGHT
TZOFFSETFROM:-0500
TZOFFSETTO:-0400
TZNAME:EDT
DTSTART:20240310T070000
END:DAYLIGHT
BEGIN:STANDARD
TZOFFSETFROM:-0400
TZOFFSETTO:-0500
TZNAME:EST
DTSTART:20241103T060000
END:STANDARD
BEGIN:DAYLIGHT
TZOFFSETFROM:-0500
TZOFFSETTO:-0400
TZNAME:EDT
DTSTART:20250309T070000
END:DAYLIGHT
BEGIN:STANDARD
TZOFFSETFROM:-0400
TZOFFSETTO:-0500
TZNAME:EST
DTSTART:20251102T060000
END:STANDARD
BEGIN:DAYLIGHT
TZOFFSETFROM:-0500
TZOFFSETTO:-0400
TZNAME:EDT
DTSTART:20260308T070000
END:DAYLIGHT
BEGIN:STANDARD
TZOFFSETFROM:-0400
TZOFFSETTO:-0500
TZNAME:EST
DTSTART:20261101T060000
END:STANDARD
END:VTIMEZONE
BEGIN:VEVENT
DTSTART;TZID=America/Toronto:20250325T090000
DTEND;TZID=America/Toronto:20250325T110000
DTSTAMP:20260420T095756
CREATED:20250226T200957Z
LAST-MODIFIED:20250226T200957Z
UID:10001285-1742893200-1742900400@staging.communitylivingowensound.com
SUMMARY:DIY Tote Bags
DESCRIPTION:DIY Tote Bags\n Date: March 25 Time: 9-11am Cost: $39 \nRSVP by: March 16 Location: Main Office \nMake your own unique tote bag in this fun DIY craft session. Perfect for gifting!
URL:https://staging.communitylivingowensound.com/event/diy-tote-bags/
CATEGORIES:Passport
ATTACH;FMTTYPE=image/jpeg:https://staging.communitylivingowensound.com/wp-content/uploads/2025/02/DIY-tote-bag.jpg
END:VEVENT
BEGIN:VEVENT
DTSTART;TZID=America/Toronto:20250325T093000
DTEND;TZID=America/Toronto:20250325T120000
DTSTAMP:20260420T095756
CREATED:20250226T201346Z
LAST-MODIFIED:20250226T201346Z
UID:10001286-1742895000-1742904000@staging.communitylivingowensound.com
SUMMARY:Cooking Class: Shell Casserole
DESCRIPTION:Shell Casserole\nDate: March 25 Time: 9:30-12pm Cost: $45 \nRSVP by: March 16 Location: Main Office \nJoin us to cook a delicious shell casserole that will be a hit at any dinner table. \n 
URL:https://staging.communitylivingowensound.com/event/cooking-class-shell-casserole/
CATEGORIES:Passport
ATTACH;FMTTYPE=image/jpeg:https://staging.communitylivingowensound.com/wp-content/uploads/2025/02/shell-casserole.jpg
END:VEVENT
BEGIN:VEVENT
DTSTART;TZID=America/Toronto:20250325T130000
DTEND;TZID=America/Toronto:20250325T160000
DTSTAMP:20260420T095756
CREATED:20250226T202512Z
LAST-MODIFIED:20250226T202547Z
UID:10001287-1742907600-1742918400@staging.communitylivingowensound.com
SUMMARY:Bowling
DESCRIPTION:Bowling\nDate: March 25 Time: 1-4pm Cost: $45 \nRSVP by: March 16 \nLocation: Bowling Alley \nStrike up some fun at our bowling event! Whether you’re a pro or a beginner\, it’s all about having a great time.
URL:https://staging.communitylivingowensound.com/event/bowling-3/
CATEGORIES:Passport
ATTACH;FMTTYPE=image/jpeg:https://staging.communitylivingowensound.com/wp-content/uploads/2024/10/bowling.jpg
END:VEVENT
BEGIN:VEVENT
DTSTART;TZID=America/Toronto:20250325T150000
DTEND;TZID=America/Toronto:20250325T180000
DTSTAMP:20260420T095756
CREATED:20240207T202046Z
LAST-MODIFIED:20240207T202046Z
UID:10000086-1742914800-1742925600@staging.communitylivingowensound.com
SUMMARY:Billiards and Darts (Port Elgin)
DESCRIPTION:Tuesdays March 5\, 12\, 19\, 26 2024\nBilliards & Darts- PE LEGION\, PORT ELGIN- $ To Be Determined \nCome enjoy a few games of pool and darts at the local legion! You can attend each week\, or choose the weeks you’d like to come.\n3pm – 6pm\nRSVP to Lisa Penny @   lpenny@comlivos.on.ca
URL:https://staging.communitylivingowensound.com/event/billiards-and-darts-port-elgin/2025-03-25/
CATEGORIES:Passport
ATTACH;FMTTYPE=image/jpeg:https://staging.communitylivingowensound.com/wp-content/uploads/2024/02/billiards-and-darts.jpg
END:VEVENT
END:VCALENDAR