BEGIN:VCALENDAR
VERSION:2.0
PRODID:-//Community Living Owen Sound and District - ECPv6.15.11//NONSGML v1.0//EN
CALSCALE:GREGORIAN
METHOD:PUBLISH
X-WR-CALNAME:Community Living Owen Sound and District
X-ORIGINAL-URL:https://staging.communitylivingowensound.com
X-WR-CALDESC:Events for Community Living Owen Sound and District
REFRESH-INTERVAL;VALUE=DURATION:PT1H
X-Robots-Tag:noindex
X-PUBLISHED-TTL:PT1H
BEGIN:VTIMEZONE
TZID:America/Toronto
BEGIN:DAYLIGHT
TZOFFSETFROM:-0500
TZOFFSETTO:-0400
TZNAME:EDT
DTSTART:20240310T070000
END:DAYLIGHT
BEGIN:STANDARD
TZOFFSETFROM:-0400
TZOFFSETTO:-0500
TZNAME:EST
DTSTART:20241103T060000
END:STANDARD
BEGIN:DAYLIGHT
TZOFFSETFROM:-0500
TZOFFSETTO:-0400
TZNAME:EDT
DTSTART:20250309T070000
END:DAYLIGHT
BEGIN:STANDARD
TZOFFSETFROM:-0400
TZOFFSETTO:-0500
TZNAME:EST
DTSTART:20251102T060000
END:STANDARD
BEGIN:DAYLIGHT
TZOFFSETFROM:-0500
TZOFFSETTO:-0400
TZNAME:EDT
DTSTART:20260308T070000
END:DAYLIGHT
BEGIN:STANDARD
TZOFFSETFROM:-0400
TZOFFSETTO:-0500
TZNAME:EST
DTSTART:20261101T060000
END:STANDARD
END:VTIMEZONE
BEGIN:VEVENT
DTSTART;TZID=America/Toronto:20250407T083000
DTEND;TZID=America/Toronto:20250407T133000
DTSTAMP:20260420T004435
CREATED:20250321T144349Z
LAST-MODIFIED:20250321T144349Z
UID:10002193-1744014600-1744032600@staging.communitylivingowensound.com
SUMMARY:Pottery Workshop
DESCRIPTION:Pottery Workshop\nDate: April 7\nTime: 8:30am-1:30pm Cost: $153 \nRSVP by: March 15 Location: Hello Pottery Co. \nCome make your very own pottery from scratch! With Clay on a spinning table \nSupplies included!
URL:https://staging.communitylivingowensound.com/event/pottery-workshop/
CATEGORIES:Passport
ATTACH;FMTTYPE=image/jpeg:https://staging.communitylivingowensound.com/wp-content/uploads/2025/03/pottery.jpg
END:VEVENT
BEGIN:VEVENT
DTSTART;TZID=America/Toronto:20250407T160000
DTEND;TZID=America/Toronto:20250407T180000
DTSTAMP:20260420T004435
CREATED:20250321T144506Z
LAST-MODIFIED:20250321T144506Z
UID:10002194-1744041600-1744048800@staging.communitylivingowensound.com
SUMMARY:Pizza Day!
DESCRIPTION:Pizza Day!\nDate: April 7 Time: 4-6pm Cost: $25 RSVP by: April 3 \nLocation: Link Office PORT ELGIN \nPlease join us to make your own custom pizza at the Port Elgin Office!
URL:https://staging.communitylivingowensound.com/event/pizza-day/
CATEGORIES:Passport
ATTACH;FMTTYPE=image/jpeg:https://staging.communitylivingowensound.com/wp-content/uploads/2025/01/pizza-dough.jpg
END:VEVENT
END:VCALENDAR