BEGIN:VCALENDAR
VERSION:2.0
PRODID:-//Community Living Owen Sound and District - ECPv6.15.11//NONSGML v1.0//EN
CALSCALE:GREGORIAN
METHOD:PUBLISH
X-WR-CALNAME:Community Living Owen Sound and District
X-ORIGINAL-URL:https://staging.communitylivingowensound.com
X-WR-CALDESC:Events for Community Living Owen Sound and District
REFRESH-INTERVAL;VALUE=DURATION:PT1H
X-Robots-Tag:noindex
X-PUBLISHED-TTL:PT1H
BEGIN:VTIMEZONE
TZID:America/Toronto
BEGIN:DAYLIGHT
TZOFFSETFROM:-0500
TZOFFSETTO:-0400
TZNAME:EDT
DTSTART:20240310T070000
END:DAYLIGHT
BEGIN:STANDARD
TZOFFSETFROM:-0400
TZOFFSETTO:-0500
TZNAME:EST
DTSTART:20241103T060000
END:STANDARD
BEGIN:DAYLIGHT
TZOFFSETFROM:-0500
TZOFFSETTO:-0400
TZNAME:EDT
DTSTART:20250309T070000
END:DAYLIGHT
BEGIN:STANDARD
TZOFFSETFROM:-0400
TZOFFSETTO:-0500
TZNAME:EST
DTSTART:20251102T060000
END:STANDARD
BEGIN:DAYLIGHT
TZOFFSETFROM:-0500
TZOFFSETTO:-0400
TZNAME:EDT
DTSTART:20260308T070000
END:DAYLIGHT
BEGIN:STANDARD
TZOFFSETFROM:-0400
TZOFFSETTO:-0500
TZNAME:EST
DTSTART:20261101T060000
END:STANDARD
END:VTIMEZONE
BEGIN:VEVENT
DTSTART;TZID=America/Toronto:20250410T130000
DTEND;TZID=America/Toronto:20250410T160000
DTSTAMP:20260421T090858
CREATED:20250321T145140Z
LAST-MODIFIED:20250321T145140Z
UID:10002198-1744290000-1744300800@staging.communitylivingowensound.com
SUMMARY:Woodworking: Birdhouses
DESCRIPTION:Woodworking: Birdhouses\nDate: April 10 Time: 1-4pm Cost: $78\nRSVP by: March 27 \nLocation: CLOSD Main Office \nBuild your own birdhouse with this precut kit and create a cozy home for your feathered friends! Just bring nails\, wood glue\, and a screw\, and enjoy a fun\, hands-on DIY experience. Perfect for all skill levels!
URL:https://staging.communitylivingowensound.com/event/woodworking-birdhouses/
CATEGORIES:Passport
ATTACH;FMTTYPE=image/jpeg:https://staging.communitylivingowensound.com/wp-content/uploads/2024/03/diy-birdhouse.jpg
END:VEVENT
BEGIN:VEVENT
DTSTART;TZID=America/Toronto:20250410T130000
DTEND;TZID=America/Toronto:20250410T163000
DTSTAMP:20260421T090858
CREATED:20250321T145402Z
LAST-MODIFIED:20250321T145402Z
UID:10002200-1744290000-1744302600@staging.communitylivingowensound.com
SUMMARY:Bruce County Museum
DESCRIPTION:Bruce County Museum\nDate: April 10 Time: 1-4:30pm Cost: $47\nRSVP by: April 3 \nLocation: Bruce County Museum \nLet’s take a drive to Southampton to explore the museums\, browse fascinating exhibits\, and dive into the archives for a day of discovery!
URL:https://staging.communitylivingowensound.com/event/bruce-county-museum-2/
CATEGORIES:Passport
ATTACH;FMTTYPE=image/jpeg:https://staging.communitylivingowensound.com/wp-content/uploads/2025/01/museum.jpg
END:VEVENT
BEGIN:VEVENT
DTSTART;TZID=America/Toronto:20250410T190000
DTEND;TZID=America/Toronto:20250410T213000
DTSTAMP:20260421T090858
CREATED:20250321T145253Z
LAST-MODIFIED:20250321T145253Z
UID:10002199-1744311600-1744320600@staging.communitylivingowensound.com
SUMMARY:Movie Night: - Minecraft
DESCRIPTION:Movie Night: – Minecraft\nDate: April 10 Time: 7-9:30pm Cost: $55\nRSVP by: March 31 Location: Galaxy Cinemas \nCome join us for the evening at the movies as we Watch the new Minecraft movie. Starring Jack Black\, A Mysterious portal pulls four misfits into the overworld\, a bizarre\, cubic wonderland that thrives on imagination. If you played the games you will love this movie! \n \n 
URL:https://staging.communitylivingowensound.com/event/movie-night-minecraft/
CATEGORIES:Passport
ATTACH;FMTTYPE=image/png:https://staging.communitylivingowensound.com/wp-content/uploads/2024/01/Screenshot-2024-01-30-at-7.26.15 PM.png
END:VEVENT
END:VCALENDAR