BEGIN:VCALENDAR
VERSION:2.0
PRODID:-//Community Living Owen Sound and District - ECPv6.15.11//NONSGML v1.0//EN
CALSCALE:GREGORIAN
METHOD:PUBLISH
X-WR-CALNAME:Community Living Owen Sound and District
X-ORIGINAL-URL:https://staging.communitylivingowensound.com
X-WR-CALDESC:Events for Community Living Owen Sound and District
REFRESH-INTERVAL;VALUE=DURATION:PT1H
X-Robots-Tag:noindex
X-PUBLISHED-TTL:PT1H
BEGIN:VTIMEZONE
TZID:America/Toronto
BEGIN:DAYLIGHT
TZOFFSETFROM:-0500
TZOFFSETTO:-0400
TZNAME:EDT
DTSTART:20240310T070000
END:DAYLIGHT
BEGIN:STANDARD
TZOFFSETFROM:-0400
TZOFFSETTO:-0500
TZNAME:EST
DTSTART:20241103T060000
END:STANDARD
BEGIN:DAYLIGHT
TZOFFSETFROM:-0500
TZOFFSETTO:-0400
TZNAME:EDT
DTSTART:20250309T070000
END:DAYLIGHT
BEGIN:STANDARD
TZOFFSETFROM:-0400
TZOFFSETTO:-0500
TZNAME:EST
DTSTART:20251102T060000
END:STANDARD
BEGIN:DAYLIGHT
TZOFFSETFROM:-0500
TZOFFSETTO:-0400
TZNAME:EDT
DTSTART:20260308T070000
END:DAYLIGHT
BEGIN:STANDARD
TZOFFSETFROM:-0400
TZOFFSETTO:-0500
TZNAME:EST
DTSTART:20261101T060000
END:STANDARD
END:VTIMEZONE
BEGIN:VEVENT
DTSTART;TZID=America/Toronto:20250411T090000
DTEND;TZID=America/Toronto:20250411T113000
DTSTAMP:20260422T141330
CREATED:20250321T145909Z
LAST-MODIFIED:20250321T145909Z
UID:10002202-1744362000-1744371000@staging.communitylivingowensound.com
SUMMARY:Curry Chicken Cooking
DESCRIPTION:Curry Chicken Cooking\nDate: April 11 Time: 9-11:30am Cost: $29\nRSVP by: March 28 \nLocation: CLOSD Main Office \n  \nLove trying new flavors? Join us for a fun and delicious cooking session where we’ll make curry chicken with vegetables over rice— customized to be as mild or as spicy as you like!  Let’s cook\, taste\, and enjoy together!
URL:https://staging.communitylivingowensound.com/event/curry-chicken-cooking/
CATEGORIES:Passport
ATTACH;FMTTYPE=image/png:https://staging.communitylivingowensound.com/wp-content/uploads/2025/03/chicken-curry.png
END:VEVENT
BEGIN:VEVENT
DTSTART;TZID=America/Toronto:20250411T133000
DTEND;TZID=America/Toronto:20250411T163000
DTSTAMP:20260422T141330
CREATED:20250321T145634Z
LAST-MODIFIED:20250321T145634Z
UID:10002201-1744378200-1744389000@staging.communitylivingowensound.com
SUMMARY:Sand Candles
DESCRIPTION:Sand Candles\nDate: April 11\nTime: 1:30-4:30 pm Cost: $49 \nRSVP by: April 1 \nLocation: CLOSD Main Office \nEver wanted to capture a little world in a jar? Come to the main office and get creative as you design your own \nsand candle—a unique blend of color\, texture\, and light! Don’t miss this fun\, hands-on experience!
URL:https://staging.communitylivingowensound.com/event/sand-candles/
CATEGORIES:Passport
ATTACH;FMTTYPE=image/jpeg:https://staging.communitylivingowensound.com/wp-content/uploads/2025/03/sand-candle.jpg
END:VEVENT
END:VCALENDAR