BEGIN:VCALENDAR
VERSION:2.0
PRODID:-//Community Living Owen Sound and District - ECPv6.15.11//NONSGML v1.0//EN
CALSCALE:GREGORIAN
METHOD:PUBLISH
X-ORIGINAL-URL:https://staging.communitylivingowensound.com
X-WR-CALDESC:Events for Community Living Owen Sound and District
REFRESH-INTERVAL;VALUE=DURATION:PT1H
X-Robots-Tag:noindex
X-PUBLISHED-TTL:PT1H
BEGIN:VTIMEZONE
TZID:America/Toronto
BEGIN:DAYLIGHT
TZOFFSETFROM:-0500
TZOFFSETTO:-0400
TZNAME:EDT
DTSTART:20240310T070000
END:DAYLIGHT
BEGIN:STANDARD
TZOFFSETFROM:-0400
TZOFFSETTO:-0500
TZNAME:EST
DTSTART:20241103T060000
END:STANDARD
BEGIN:DAYLIGHT
TZOFFSETFROM:-0500
TZOFFSETTO:-0400
TZNAME:EDT
DTSTART:20250309T070000
END:DAYLIGHT
BEGIN:STANDARD
TZOFFSETFROM:-0400
TZOFFSETTO:-0500
TZNAME:EST
DTSTART:20251102T060000
END:STANDARD
BEGIN:DAYLIGHT
TZOFFSETFROM:-0500
TZOFFSETTO:-0400
TZNAME:EDT
DTSTART:20260308T070000
END:DAYLIGHT
BEGIN:STANDARD
TZOFFSETFROM:-0400
TZOFFSETTO:-0500
TZNAME:EST
DTSTART:20261101T060000
END:STANDARD
END:VTIMEZONE
BEGIN:VEVENT
DTSTART;TZID=America/Toronto:20250428T090000
DTEND;TZID=America/Toronto:20250428T170000
DTSTAMP:20260419T163017
CREATED:20250321T152343Z
LAST-MODIFIED:20250321T152343Z
UID:10002216-1745830800-1745859600@staging.communitylivingowensound.com
SUMMARY:Blue Mountain Play All Day
DESCRIPTION:Blue Mountain Play All Day\nDate: April 28 Time: 9am-5pm Cost: $185 RSVP by: April 15 \nGet ready for an action-packed day at Blue Mountain\, filled with thrills\, adventure\, and non-stop fun! Soar through the treetops on a zipline\, take in breathtaking views from the gondola\, race down the mountain coaster\, and test your skills on the aerial course. Cool off with swimming and paddle boating\, or enjoy a round of mini-golf.
URL:https://staging.communitylivingowensound.com/event/blue-mountain-play-all-day-3/
CATEGORIES:Passport
ATTACH;FMTTYPE=image/jpeg:https://staging.communitylivingowensound.com/wp-content/uploads/2024/05/Blue-Mountain-Play-Day.jpg
END:VEVENT
BEGIN:VEVENT
DTSTART;TZID=America/Toronto:20250428T160000
DTEND;TZID=America/Toronto:20250428T180000
DTSTAMP:20260419T163017
CREATED:20250321T152459Z
LAST-MODIFIED:20250321T152459Z
UID:10002217-1745856000-1745863200@staging.communitylivingowensound.com
SUMMARY:Sloppy Joe Casserole
DESCRIPTION:Sloppy Joe Casserole\nDate: April 28 Time: 4-6pm Cost: $34\nRSVP by: April 18 \nLocation: PORT ELGIN OFFICE \nJoin us for a fun and delicious cooking session as we \nwhip up a hearty Sloppy Joe Casserole—a tasty twist on the classic sandwich\, baked to perfection! Perfect for all skill levels\, this warm and comforting dish is sure to be a crowd- pleaser. Come hungry and ready to cook!
URL:https://staging.communitylivingowensound.com/event/sloppy-joe-casserole/
CATEGORIES:Passport
ATTACH;FMTTYPE=image/jpeg:https://staging.communitylivingowensound.com/wp-content/uploads/2024/04/cowboy-casserole.jpg
END:VEVENT
END:VCALENDAR