BEGIN:VCALENDAR
VERSION:2.0
PRODID:-//Community Living Owen Sound and District - ECPv6.15.11//NONSGML v1.0//EN
CALSCALE:GREGORIAN
METHOD:PUBLISH
X-WR-CALNAME:Community Living Owen Sound and District
X-ORIGINAL-URL:https://staging.communitylivingowensound.com
X-WR-CALDESC:Events for Community Living Owen Sound and District
REFRESH-INTERVAL;VALUE=DURATION:PT1H
X-Robots-Tag:noindex
X-PUBLISHED-TTL:PT1H
BEGIN:VTIMEZONE
TZID:America/Toronto
BEGIN:DAYLIGHT
TZOFFSETFROM:-0500
TZOFFSETTO:-0400
TZNAME:EDT
DTSTART:20240310T070000
END:DAYLIGHT
BEGIN:STANDARD
TZOFFSETFROM:-0400
TZOFFSETTO:-0500
TZNAME:EST
DTSTART:20241103T060000
END:STANDARD
BEGIN:DAYLIGHT
TZOFFSETFROM:-0500
TZOFFSETTO:-0400
TZNAME:EDT
DTSTART:20250309T070000
END:DAYLIGHT
BEGIN:STANDARD
TZOFFSETFROM:-0400
TZOFFSETTO:-0500
TZNAME:EST
DTSTART:20251102T060000
END:STANDARD
BEGIN:DAYLIGHT
TZOFFSETFROM:-0500
TZOFFSETTO:-0400
TZNAME:EDT
DTSTART:20260308T070000
END:DAYLIGHT
BEGIN:STANDARD
TZOFFSETFROM:-0400
TZOFFSETTO:-0500
TZNAME:EST
DTSTART:20261101T060000
END:STANDARD
END:VTIMEZONE
BEGIN:VEVENT
DTSTART;TZID=America/Toronto:20250520T093000
DTEND;TZID=America/Toronto:20250520T113000
DTSTAMP:20260420T143625
CREATED:20250416T164740Z
LAST-MODIFIED:20250416T164740Z
UID:10002246-1747733400-1747740600@staging.communitylivingowensound.com
SUMMARY:Raspberry Chocolate Muffins
DESCRIPTION:Raspberry Chocolate Muffins\nDate: May 20\nTime: 9:30am-11:30am Cost: $27 \nRSVP by: April 30 Location: Main Office OS \nTreat yourself to the perfect blend of sweet and tart at our Raspberry Chocolate Muffin Baking Session! Learn how to make these soft\, decadent muffins packed with juicy raspberries and rich chocolate—guaranteed to be a new favourite!
URL:https://staging.communitylivingowensound.com/event/raspberry-chocolate-muffins/
CATEGORIES:Passport
ATTACH;FMTTYPE=image/jpeg:https://staging.communitylivingowensound.com/wp-content/uploads/2025/04/raspberry-chocolate-muffins.jpg
END:VEVENT
BEGIN:VEVENT
DTSTART;TZID=America/Toronto:20250520T130000
DTEND;TZID=America/Toronto:20250520T163000
DTSTAMP:20260420T143625
CREATED:20250416T164910Z
LAST-MODIFIED:20250416T164910Z
UID:10002247-1747746000-1747758600@staging.communitylivingowensound.com
SUMMARY:Bruce County Museum
DESCRIPTION:Bruce County Museum\nDate: May 20 Time: 1-4:30pm Cost: $45\nRSVP by: May 8 \nLocation: Southampton\, ON \n  \nStep into the past with a trip to the Bruce County Museum! Explore fascinating exhibits\, local history\, and hands-on displays that bring the stories of our region to life—perfect for curious minds and history buffs alike.
URL:https://staging.communitylivingowensound.com/event/bruce-county-museum-3/
CATEGORIES:Passport
ATTACH;FMTTYPE=image/jpeg:https://staging.communitylivingowensound.com/wp-content/uploads/2025/04/museum.jpg
END:VEVENT
END:VCALENDAR