BEGIN:VCALENDAR
VERSION:2.0
PRODID:-//Community Living Owen Sound and District - ECPv6.15.11//NONSGML v1.0//EN
CALSCALE:GREGORIAN
METHOD:PUBLISH
X-WR-CALNAME:Community Living Owen Sound and District
X-ORIGINAL-URL:https://staging.communitylivingowensound.com
X-WR-CALDESC:Events for Community Living Owen Sound and District
REFRESH-INTERVAL;VALUE=DURATION:PT1H
X-Robots-Tag:noindex
X-PUBLISHED-TTL:PT1H
BEGIN:VTIMEZONE
TZID:America/Toronto
BEGIN:DAYLIGHT
TZOFFSETFROM:-0500
TZOFFSETTO:-0400
TZNAME:EDT
DTSTART:20240310T070000
END:DAYLIGHT
BEGIN:STANDARD
TZOFFSETFROM:-0400
TZOFFSETTO:-0500
TZNAME:EST
DTSTART:20241103T060000
END:STANDARD
BEGIN:DAYLIGHT
TZOFFSETFROM:-0500
TZOFFSETTO:-0400
TZNAME:EDT
DTSTART:20250309T070000
END:DAYLIGHT
BEGIN:STANDARD
TZOFFSETFROM:-0400
TZOFFSETTO:-0500
TZNAME:EST
DTSTART:20251102T060000
END:STANDARD
BEGIN:DAYLIGHT
TZOFFSETFROM:-0500
TZOFFSETTO:-0400
TZNAME:EDT
DTSTART:20260308T070000
END:DAYLIGHT
BEGIN:STANDARD
TZOFFSETFROM:-0400
TZOFFSETTO:-0500
TZNAME:EST
DTSTART:20261101T060000
END:STANDARD
END:VTIMEZONE
BEGIN:VEVENT
DTSTART;TZID=America/Toronto:20250529T083000
DTEND;TZID=America/Toronto:20250529T183000
DTSTAMP:20260419T140709
CREATED:20250416T170334Z
LAST-MODIFIED:20250416T170334Z
UID:10002257-1748507400-1748543400@staging.communitylivingowensound.com
SUMMARY:Museum of Illusions
DESCRIPTION:Museum of Illusions\nDate: May 29\nTime: 8:30am – 6:30pm Cost: $195 \nRSVP by: May 8 Location: Toronto \n  \nStep into a world where nothing is as it seems at the Museum of Illusions in Toronto! Located at 132 Front Street East\, this interactive museum features over 80 mind-bending exhibits—including the Vortex Tunnel\, Ames Room\, and Anti-Gravity Room—that will challenge your perception and dazzle your senses. Perfect for all ages\, it’s a fun and educational experience that offers plenty of photo opportunities and unforgettable moments.
URL:https://staging.communitylivingowensound.com/event/museum-of-illusions/
CATEGORIES:Passport
ATTACH;FMTTYPE=image/jpeg:https://staging.communitylivingowensound.com/wp-content/uploads/2025/04/illusions.jpg
END:VEVENT
END:VCALENDAR