BEGIN:VCALENDAR
VERSION:2.0
PRODID:-//Community Living Owen Sound and District - ECPv6.15.11//NONSGML v1.0//EN
CALSCALE:GREGORIAN
METHOD:PUBLISH
X-ORIGINAL-URL:https://staging.communitylivingowensound.com
X-WR-CALDESC:Events for Community Living Owen Sound and District
REFRESH-INTERVAL;VALUE=DURATION:PT1H
X-Robots-Tag:noindex
X-PUBLISHED-TTL:PT1H
BEGIN:VTIMEZONE
TZID:America/Toronto
BEGIN:DAYLIGHT
TZOFFSETFROM:-0500
TZOFFSETTO:-0400
TZNAME:EDT
DTSTART:20240310T070000
END:DAYLIGHT
BEGIN:STANDARD
TZOFFSETFROM:-0400
TZOFFSETTO:-0500
TZNAME:EST
DTSTART:20241103T060000
END:STANDARD
BEGIN:DAYLIGHT
TZOFFSETFROM:-0500
TZOFFSETTO:-0400
TZNAME:EDT
DTSTART:20250309T070000
END:DAYLIGHT
BEGIN:STANDARD
TZOFFSETFROM:-0400
TZOFFSETTO:-0500
TZNAME:EST
DTSTART:20251102T060000
END:STANDARD
BEGIN:DAYLIGHT
TZOFFSETFROM:-0500
TZOFFSETTO:-0400
TZNAME:EDT
DTSTART:20260308T070000
END:DAYLIGHT
BEGIN:STANDARD
TZOFFSETFROM:-0400
TZOFFSETTO:-0500
TZNAME:EST
DTSTART:20261101T060000
END:STANDARD
END:VTIMEZONE
BEGIN:VEVENT
DTSTART;TZID=America/Toronto:20250712T110000
DTEND;TZID=America/Toronto:20250712T150000
DTSTAMP:20260420T221512
CREATED:20250610T183829Z
LAST-MODIFIED:20250610T183829Z
UID:10002652-1752318000-1752332400@staging.communitylivingowensound.com
SUMMARY:Monster Trucks – Sauble Speedway
DESCRIPTION:Monster Trucks – Sauble Speedway \nDate: Saturday\, July 12 Time: 11am-3pm\nCost: $81 \nRSVP by: July 2 \nMeeting Location: Main Office\, OS Location: Sauble Speedway \nRev up your weekend with Monster Trucks All Out at Sauble Speedway in Hepworth! Watch in awe as colossal trucks smash\, soar\, and crush obstacles in high-flying\, ground- pounding action —an unforgettable adrenaline rush.
URL:https://staging.communitylivingowensound.com/event/monster-trucks-sauble-speedway/
CATEGORIES:Passport
ATTACH;FMTTYPE=image/jpeg:https://staging.communitylivingowensound.com/wp-content/uploads/2024/05/Monster-Truck.jpg
END:VEVENT
BEGIN:VEVENT
DTSTART;TZID=America/Toronto:20250712T120000
DTEND;TZID=America/Toronto:20250712T170000
DTSTAMP:20260420T221512
CREATED:20250610T184618Z
LAST-MODIFIED:20250610T184618Z
UID:10002653-1752321600-1752339600@staging.communitylivingowensound.com
SUMMARY:Southampton Comicon
DESCRIPTION:Southampton Comicon\nDate: Saturday\, July 12 Time: 12-5pm\nCost: $66 \nRSVP by: July 5 \nMeeting Location: Main Office\, OS Location: Southampton\, ON \n \nGet ready for Ontario’s summer pop-culture celebration at Bruce County Comicon! With over 25\,000 sq ft of vendor space\, 200+ tables\, celebrity guests\, cosplay fun\, collectibles\, trading cards\, retro video games.
URL:https://staging.communitylivingowensound.com/event/southampton-comicon/
CATEGORIES:Passport
ATTACH;FMTTYPE=image/png:https://staging.communitylivingowensound.com/wp-content/uploads/2025/06/comicon.png
END:VEVENT
BEGIN:VEVENT
DTSTART;TZID=America/Toronto:20250712T150000
DTEND;TZID=America/Toronto:20250712T233000
DTSTAMP:20260420T221512
CREATED:20250610T185134Z
LAST-MODIFIED:20250610T185134Z
UID:10002654-1752332400-1752363000@staging.communitylivingowensound.com
SUMMARY:Big Bounce – Bouncy Castle For Adults
DESCRIPTION:Big Bounce – Bouncy Castle For Adults\nDate: Saturday\, July 12 Time: 3pm-12am\nCost: $240 \nRSVP by: June 30 Location: Markham\, ON \nMeeting Location: Main Office OS \n  \nGet ready for an epic day of inflatable fun at Big Bounce Canada in Markham\, home to the world’s largest touring bouncy castle! Bounce\, slide\, and laugh your way through giant obstacle courses\, foam zones\, and colourful castles made for all ages at your own pace in.
URL:https://staging.communitylivingowensound.com/event/big-bounce-bouncy-castle-for-adults/
CATEGORIES:Passport
ATTACH;FMTTYPE=image/png:https://staging.communitylivingowensound.com/wp-content/uploads/2025/06/bouncy-castle.png
END:VEVENT
END:VCALENDAR