BEGIN:VCALENDAR
VERSION:2.0
PRODID:-//Community Living Owen Sound and District - ECPv6.15.11//NONSGML v1.0//EN
CALSCALE:GREGORIAN
METHOD:PUBLISH
X-WR-CALNAME:Community Living Owen Sound and District
X-ORIGINAL-URL:https://staging.communitylivingowensound.com
X-WR-CALDESC:Events for Community Living Owen Sound and District
REFRESH-INTERVAL;VALUE=DURATION:PT1H
X-Robots-Tag:noindex
X-PUBLISHED-TTL:PT1H
BEGIN:VTIMEZONE
TZID:America/Toronto
BEGIN:DAYLIGHT
TZOFFSETFROM:-0500
TZOFFSETTO:-0400
TZNAME:EDT
DTSTART:20240310T070000
END:DAYLIGHT
BEGIN:STANDARD
TZOFFSETFROM:-0400
TZOFFSETTO:-0500
TZNAME:EST
DTSTART:20241103T060000
END:STANDARD
BEGIN:DAYLIGHT
TZOFFSETFROM:-0500
TZOFFSETTO:-0400
TZNAME:EDT
DTSTART:20250309T070000
END:DAYLIGHT
BEGIN:STANDARD
TZOFFSETFROM:-0400
TZOFFSETTO:-0500
TZNAME:EST
DTSTART:20251102T060000
END:STANDARD
BEGIN:DAYLIGHT
TZOFFSETFROM:-0500
TZOFFSETTO:-0400
TZNAME:EDT
DTSTART:20260308T070000
END:DAYLIGHT
BEGIN:STANDARD
TZOFFSETFROM:-0400
TZOFFSETTO:-0500
TZNAME:EST
DTSTART:20261101T060000
END:STANDARD
END:VTIMEZONE
BEGIN:VEVENT
DTSTART;TZID=America/Toronto:20250716T080000
DTEND;TZID=America/Toronto:20250716T170000
DTSTAMP:20260421T181637
CREATED:20250716T173548Z
LAST-MODIFIED:20250716T173548Z
UID:10002691-1752652800-1752685200@staging.communitylivingowensound.com
SUMMARY:Freakier Friday Movie Night
DESCRIPTION:Freakier Friday Movie Night  \nDate: Wednesday\, August 20 Time: TBD Evening \nCost: $65\nRSVP by: August 13 \n  \nJoin us for a movie night to see Freakier Friday\, see Jamie Lee Curtis and Lindsay Lohan reprise their iconic roles in a hilarious\, multi-generational body-swap adventure! With new twists\, witty family dynamics\, and classic Freaky Fridays humor\, it’s a perfect midday treat for fans old and new
URL:https://staging.communitylivingowensound.com/event/freakier-friday-movie-night/
CATEGORIES:Passport
ATTACH;FMTTYPE=image/jpeg:https://staging.communitylivingowensound.com/wp-content/uploads/2024/05/Movie-Night.jpg
END:VEVENT
BEGIN:VEVENT
DTSTART;TZID=America/Toronto:20250716T120000
DTEND;TZID=America/Toronto:20250716T163000
DTSTAMP:20260421T181637
CREATED:20250611T125008Z
LAST-MODIFIED:20250611T125008Z
UID:10002658-1752667200-1752683400@staging.communitylivingowensound.com
SUMMARY:Bowling & Mini Golf
DESCRIPTION:Bowling & Mini Golf\nDate: Wednesday\, July 16 Time: 12-4:30pm\nCost: $81 \nRSVP by: July 7 Location: Port Elgin\, ON \nMeeting Location: Main Office OS \n  \nHit the lanes and the mini-golf course at Sunset Family Fun Centre in Port Elgin for a perfect combo of fun and friendly competition! Enjoy a round of cosmic 5-pin bowling and a glowing game of indoor mini-golf—wrap it up with arcade games and snacks for a relaxed\, full-group outing.
URL:https://staging.communitylivingowensound.com/event/bowling-mini-golf/
CATEGORIES:Passport
ATTACH;FMTTYPE=image/png:https://staging.communitylivingowensound.com/wp-content/uploads/2025/05/mini-golf.png
END:VEVENT
BEGIN:VEVENT
DTSTART;TZID=America/Toronto:20250716T160000
DTEND;TZID=America/Toronto:20250716T180000
DTSTAMP:20260421T181637
CREATED:20250611T125202Z
LAST-MODIFIED:20250611T125202Z
UID:10002659-1752681600-1752688800@staging.communitylivingowensound.com
SUMMARY:Snow Cone/Cotton Candy Fiesta
DESCRIPTION:Snow Cone/Cotton Candy Fiesta\nDate: Wednesday\, July 16 Time: 4-6pm\nCost: $50 \nRSVP by: July 3 Location: Port Elgin\, ON \n  \nCool off and satisfy your sweet tooth at our Snow Cone & Cotton Candy Fiesta! Enjoy frosted snow cones and fluffy\, sugary cotton candy in a festive\, carnival-style celebration that’s perfect for all ages.
URL:https://staging.communitylivingowensound.com/event/snow-cone-cotton-candy-fiesta/
CATEGORIES:Passport
ATTACH;FMTTYPE=image/png:https://staging.communitylivingowensound.com/wp-content/uploads/2025/06/snow-cone.png
END:VEVENT
END:VCALENDAR