BEGIN:VCALENDAR
VERSION:2.0
PRODID:-//Community Living Owen Sound and District - ECPv6.15.11//NONSGML v1.0//EN
CALSCALE:GREGORIAN
METHOD:PUBLISH
X-ORIGINAL-URL:https://staging.communitylivingowensound.com
X-WR-CALDESC:Events for Community Living Owen Sound and District
REFRESH-INTERVAL;VALUE=DURATION:PT1H
X-Robots-Tag:noindex
X-PUBLISHED-TTL:PT1H
BEGIN:VTIMEZONE
TZID:America/Toronto
BEGIN:DAYLIGHT
TZOFFSETFROM:-0500
TZOFFSETTO:-0400
TZNAME:EDT
DTSTART:20240310T070000
END:DAYLIGHT
BEGIN:STANDARD
TZOFFSETFROM:-0400
TZOFFSETTO:-0500
TZNAME:EST
DTSTART:20241103T060000
END:STANDARD
BEGIN:DAYLIGHT
TZOFFSETFROM:-0500
TZOFFSETTO:-0400
TZNAME:EDT
DTSTART:20250309T070000
END:DAYLIGHT
BEGIN:STANDARD
TZOFFSETFROM:-0400
TZOFFSETTO:-0500
TZNAME:EST
DTSTART:20251102T060000
END:STANDARD
BEGIN:DAYLIGHT
TZOFFSETFROM:-0500
TZOFFSETTO:-0400
TZNAME:EDT
DTSTART:20260308T070000
END:DAYLIGHT
BEGIN:STANDARD
TZOFFSETFROM:-0400
TZOFFSETTO:-0500
TZNAME:EST
DTSTART:20261101T060000
END:STANDARD
END:VTIMEZONE
BEGIN:VEVENT
DTSTART;TZID=America/Toronto:20250717T090000
DTEND;TZID=America/Toronto:20250717T120000
DTSTAMP:20260420T065341
CREATED:20250611T125632Z
LAST-MODIFIED:20250611T125632Z
UID:10002661-1752742800-1752753600@staging.communitylivingowensound.com
SUMMARY:Carrot Cake
DESCRIPTION:Carrot Cake \nDate: Thursday\, July 17 Time: 9am-12pm\nCost: $60 \nRSVP by: July 10 Location: Main Office\, OS \nTreat yourself to a cozy baking session in our Carrot Cake Workshop\, where you’ll learn to mix\, bake\, and frost a deliciously moist carrot cake. Enjoy the warm aromas\, fun decorating tips\, and take home a slice of homemade comfort!
URL:https://staging.communitylivingowensound.com/event/carrot-cake/
CATEGORIES:Passport
ATTACH;FMTTYPE=image/png:https://staging.communitylivingowensound.com/wp-content/uploads/2025/06/carrot-cake.png
END:VEVENT
BEGIN:VEVENT
DTSTART;TZID=America/Toronto:20250717T100000
DTEND;TZID=America/Toronto:20250717T170000
DTSTAMP:20260420T065341
CREATED:20250611T125335Z
LAST-MODIFIED:20250611T125335Z
UID:10002660-1752746400-1752771600@staging.communitylivingowensound.com
SUMMARY:Shipwrecks\, Flowerpots and Grottos
DESCRIPTION:Shipwrecks\, Flowerpots and Grottos\nDate: Thursday\, July 17 Time: 10am-5pm\nCost: $210 \nRSVP by: June 21 Location: Tobermory\, ON \nMeeting Location: Main Office\, OS \n  \nExperience the ultimate Tobermory adventure with a guided boat tour featuring shipwrecks\, Flowerpot Island’s iconic rock pillars\, and the breathtaking waters of the Grotto. With insider commentary\, crystal-clear views\, and stunning coastal scenery\, it’s the perfect way to discover the best of Fathom Five National Marine Park
URL:https://staging.communitylivingowensound.com/event/shipwrecks-flowerpots-and-grottos/
CATEGORIES:Passport
ATTACH;FMTTYPE=image/jpeg:https://staging.communitylivingowensound.com/wp-content/uploads/2024/06/Grotto-Hike.jpg
END:VEVENT
END:VCALENDAR