BEGIN:VCALENDAR
VERSION:2.0
PRODID:-//Community Living Owen Sound and District - ECPv6.15.11//NONSGML v1.0//EN
CALSCALE:GREGORIAN
METHOD:PUBLISH
X-ORIGINAL-URL:https://staging.communitylivingowensound.com
X-WR-CALDESC:Events for Community Living Owen Sound and District
REFRESH-INTERVAL;VALUE=DURATION:PT1H
X-Robots-Tag:noindex
X-PUBLISHED-TTL:PT1H
BEGIN:VTIMEZONE
TZID:America/Toronto
BEGIN:DAYLIGHT
TZOFFSETFROM:-0500
TZOFFSETTO:-0400
TZNAME:EDT
DTSTART:20240310T070000
END:DAYLIGHT
BEGIN:STANDARD
TZOFFSETFROM:-0400
TZOFFSETTO:-0500
TZNAME:EST
DTSTART:20241103T060000
END:STANDARD
BEGIN:DAYLIGHT
TZOFFSETFROM:-0500
TZOFFSETTO:-0400
TZNAME:EDT
DTSTART:20250309T070000
END:DAYLIGHT
BEGIN:STANDARD
TZOFFSETFROM:-0400
TZOFFSETTO:-0500
TZNAME:EST
DTSTART:20251102T060000
END:STANDARD
BEGIN:DAYLIGHT
TZOFFSETFROM:-0500
TZOFFSETTO:-0400
TZNAME:EDT
DTSTART:20260308T070000
END:DAYLIGHT
BEGIN:STANDARD
TZOFFSETFROM:-0400
TZOFFSETTO:-0500
TZNAME:EST
DTSTART:20261101T060000
END:STANDARD
END:VTIMEZONE
BEGIN:VEVENT
DTSTART;TZID=America/Toronto:20250725T083000
DTEND;TZID=America/Toronto:20250725T200000
DTSTAMP:20260420T230237
CREATED:20250611T181121Z
LAST-MODIFIED:20250611T181121Z
UID:10002666-1753432200-1753473600@staging.communitylivingowensound.com
SUMMARY:Toronto Zoo
DESCRIPTION:Toronto Zoo\nDate: Friday\, July 25 Time: 8:30am-8pm Cost: $206\nRSVP by: July 4 Location: Toronto\, ON \nMeeting Location: Main Office\, OS \nDiscover the wild wonders at the Toronto Zoo\, Canada’s largest zoo with over 3\,000 animals and expansive trails across seven geographic zones. From polar bears and red pandas to splash zones and behind-the-scenes encounters\, it’s an immersive day of wildlife\, learning\, and adventure!
URL:https://staging.communitylivingowensound.com/event/toronto-zoo/
CATEGORIES:Passport
ATTACH;FMTTYPE=image/jpeg:https://staging.communitylivingowensound.com/wp-content/uploads/2024/05/Elmvale-Zoo.jpg
END:VEVENT
END:VCALENDAR