BEGIN:VCALENDAR
VERSION:2.0
PRODID:-//Community Living Owen Sound and District - ECPv6.15.11//NONSGML v1.0//EN
CALSCALE:GREGORIAN
METHOD:PUBLISH
X-WR-CALNAME:Community Living Owen Sound and District
X-ORIGINAL-URL:https://staging.communitylivingowensound.com
X-WR-CALDESC:Events for Community Living Owen Sound and District
REFRESH-INTERVAL;VALUE=DURATION:PT1H
X-Robots-Tag:noindex
X-PUBLISHED-TTL:PT1H
BEGIN:VTIMEZONE
TZID:America/Toronto
BEGIN:DAYLIGHT
TZOFFSETFROM:-0500
TZOFFSETTO:-0400
TZNAME:EDT
DTSTART:20240310T070000
END:DAYLIGHT
BEGIN:STANDARD
TZOFFSETFROM:-0400
TZOFFSETTO:-0500
TZNAME:EST
DTSTART:20241103T060000
END:STANDARD
BEGIN:DAYLIGHT
TZOFFSETFROM:-0500
TZOFFSETTO:-0400
TZNAME:EDT
DTSTART:20250309T070000
END:DAYLIGHT
BEGIN:STANDARD
TZOFFSETFROM:-0400
TZOFFSETTO:-0500
TZNAME:EST
DTSTART:20251102T060000
END:STANDARD
BEGIN:DAYLIGHT
TZOFFSETFROM:-0500
TZOFFSETTO:-0400
TZNAME:EDT
DTSTART:20260308T070000
END:DAYLIGHT
BEGIN:STANDARD
TZOFFSETFROM:-0400
TZOFFSETTO:-0500
TZNAME:EST
DTSTART:20261101T060000
END:STANDARD
END:VTIMEZONE
BEGIN:VEVENT
DTSTART;TZID=America/Toronto:20250801T070000
DTEND;TZID=America/Toronto:20250801T170000
DTSTAMP:20260420T210202
CREATED:20250716T170432Z
LAST-MODIFIED:20250716T170432Z
UID:10002673-1754031600-1754067600@staging.communitylivingowensound.com
SUMMARY:Bancroft Gemstone Mining
DESCRIPTION:Bancroft Gemstone Mining\nDate: Friday\, August 1 Time: 7am\nCost: $205 \nRSVP by: July 24 \nUnearth a day of discovery at Bancroft\, Ontario’s mineral capital\, as we dig for dazzling gemstones and explore local rock and crystal treasures. Learn about geology\, try your hand at mining\, and take home a few sparkling souvenirs of your own!
URL:https://staging.communitylivingowensound.com/event/bancroft-gemstone-mining/
CATEGORIES:Passport
ATTACH;FMTTYPE=image/jpeg:https://staging.communitylivingowensound.com/wp-content/uploads/2025/07/gemstones.jpg
END:VEVENT
END:VCALENDAR