BEGIN:VCALENDAR
VERSION:2.0
PRODID:-//Community Living Owen Sound and District - ECPv6.15.11//NONSGML v1.0//EN
CALSCALE:GREGORIAN
METHOD:PUBLISH
X-ORIGINAL-URL:https://staging.communitylivingowensound.com
X-WR-CALDESC:Events for Community Living Owen Sound and District
REFRESH-INTERVAL;VALUE=DURATION:PT1H
X-Robots-Tag:noindex
X-PUBLISHED-TTL:PT1H
BEGIN:VTIMEZONE
TZID:America/Toronto
BEGIN:DAYLIGHT
TZOFFSETFROM:-0500
TZOFFSETTO:-0400
TZNAME:EDT
DTSTART:20240310T070000
END:DAYLIGHT
BEGIN:STANDARD
TZOFFSETFROM:-0400
TZOFFSETTO:-0500
TZNAME:EST
DTSTART:20241103T060000
END:STANDARD
BEGIN:DAYLIGHT
TZOFFSETFROM:-0500
TZOFFSETTO:-0400
TZNAME:EDT
DTSTART:20250309T070000
END:DAYLIGHT
BEGIN:STANDARD
TZOFFSETFROM:-0400
TZOFFSETTO:-0500
TZNAME:EST
DTSTART:20251102T060000
END:STANDARD
BEGIN:DAYLIGHT
TZOFFSETFROM:-0500
TZOFFSETTO:-0400
TZNAME:EDT
DTSTART:20260308T070000
END:DAYLIGHT
BEGIN:STANDARD
TZOFFSETFROM:-0400
TZOFFSETTO:-0500
TZNAME:EST
DTSTART:20261101T060000
END:STANDARD
END:VTIMEZONE
BEGIN:VEVENT
DTSTART;TZID=America/Toronto:20250814T093000
DTEND;TZID=America/Toronto:20250814T193000
DTSTAMP:20260423T042353
CREATED:20250716T172633Z
LAST-MODIFIED:20250716T172633Z
UID:10002684-1755163800-1755199800@staging.communitylivingowensound.com
SUMMARY:HMCS Haida Site
DESCRIPTION:HMCS Haida Site\nDate: Thursday\, August 14 Time: 9:30-7:30pm\nCost: $142 \nRSVP by: July 30 \n  \nEmbark on a compelling trip to the HMCS Haida National Historic Site in Hamilton! Climb aboard Canada’s storied “Fightingest Ship”—a WWII Tribal-class destroyer turned museum—and explore its decks\, engine room\, and gun platforms while uncovering its fierce service history in WWII\, Korea\, and the Cold War
URL:https://staging.communitylivingowensound.com/event/hmcs-haida-site/
CATEGORIES:Passport
ATTACH;FMTTYPE=image/jpeg:https://staging.communitylivingowensound.com/wp-content/uploads/2025/07/HMCS-Haida.jpg
END:VEVENT
BEGIN:VEVENT
DTSTART;TZID=America/Toronto:20250814T110000
DTEND;TZID=America/Toronto:20250814T160000
DTSTAMP:20260423T042353
CREATED:20250716T172801Z
LAST-MODIFIED:20250716T172801Z
UID:10002685-1755169200-1755187200@staging.communitylivingowensound.com
SUMMARY:Bruce Power Tour
DESCRIPTION:Bruce Power Tour\nDate: Thursday\, August 14 Time: 11am-4pm\nCost: $70 \nRSVP by: August 7 \n  \nExplore the power behind Ontario’s energy future with a Bruce Power Tour on the Bruce Peninsula! Visit the Visitors’ Centre to learn about nuclear energy\, medical isotopes\, and safety through interactive exhibits\, then hop aboard a narrated bus tour of the 2\,100-acre power station—available three times daily in July and August.
URL:https://staging.communitylivingowensound.com/event/bruce-power-tour/
CATEGORIES:Passport
ATTACH;FMTTYPE=image/jpeg:https://staging.communitylivingowensound.com/wp-content/uploads/2025/07/bruce-power-tour.jpg
END:VEVENT
END:VCALENDAR