BEGIN:VCALENDAR
VERSION:2.0
PRODID:-//Community Living Owen Sound and District - ECPv6.15.11//NONSGML v1.0//EN
CALSCALE:GREGORIAN
METHOD:PUBLISH
X-WR-CALNAME:Community Living Owen Sound and District
X-ORIGINAL-URL:https://staging.communitylivingowensound.com
X-WR-CALDESC:Events for Community Living Owen Sound and District
REFRESH-INTERVAL;VALUE=DURATION:PT1H
X-Robots-Tag:noindex
X-PUBLISHED-TTL:PT1H
BEGIN:VTIMEZONE
TZID:America/Toronto
BEGIN:DAYLIGHT
TZOFFSETFROM:-0500
TZOFFSETTO:-0400
TZNAME:EDT
DTSTART:20240310T070000
END:DAYLIGHT
BEGIN:STANDARD
TZOFFSETFROM:-0400
TZOFFSETTO:-0500
TZNAME:EST
DTSTART:20241103T060000
END:STANDARD
BEGIN:DAYLIGHT
TZOFFSETFROM:-0500
TZOFFSETTO:-0400
TZNAME:EDT
DTSTART:20250309T070000
END:DAYLIGHT
BEGIN:STANDARD
TZOFFSETFROM:-0400
TZOFFSETTO:-0500
TZNAME:EST
DTSTART:20251102T060000
END:STANDARD
BEGIN:DAYLIGHT
TZOFFSETFROM:-0500
TZOFFSETTO:-0400
TZNAME:EDT
DTSTART:20260308T070000
END:DAYLIGHT
BEGIN:STANDARD
TZOFFSETFROM:-0400
TZOFFSETTO:-0500
TZNAME:EST
DTSTART:20261101T060000
END:STANDARD
END:VTIMEZONE
BEGIN:VEVENT
DTSTART;TZID=America/Toronto:20250818T083000
DTEND;TZID=America/Toronto:20250818T163000
DTSTAMP:20260421T181651
CREATED:20250716T173011Z
LAST-MODIFIED:20250716T173011Z
UID:10002687-1755505800-1755534600@staging.communitylivingowensound.com
SUMMARY:Elmvale Zoo
DESCRIPTION:Elmvale Zoo\nDate: Monday\, August 18 Time: 8:30am-4:30pm Cost: $106\nRSVP by: August 1 \n  \nDiscover the wild charm of Elmvale Jungle Zoo\, a family-run haven featuring over 300 animals on 30 acres of shaded trails—from majestic white lions\, tigers\, and giraffes to playful monkeys\, lemurs\, and exotic birds. With interactive feeding experiences (including giraffes\, alpacas\, and lemurs) and cozy natural surroundings\, it’s a perfect and memorable outing for wildlife lovers.
URL:https://staging.communitylivingowensound.com/event/elmvale-zoo-5/
CATEGORIES:Passport
ATTACH;FMTTYPE=image/jpeg:https://staging.communitylivingowensound.com/wp-content/uploads/2024/05/Elmvale-Zoo.jpg
END:VEVENT
END:VCALENDAR