BEGIN:VCALENDAR
VERSION:2.0
PRODID:-//Community Living Owen Sound and District - ECPv6.15.11//NONSGML v1.0//EN
CALSCALE:GREGORIAN
METHOD:PUBLISH
X-WR-CALNAME:Community Living Owen Sound and District
X-ORIGINAL-URL:https://staging.communitylivingowensound.com
X-WR-CALDESC:Events for Community Living Owen Sound and District
REFRESH-INTERVAL;VALUE=DURATION:PT1H
X-Robots-Tag:noindex
X-PUBLISHED-TTL:PT1H
BEGIN:VTIMEZONE
TZID:America/Toronto
BEGIN:DAYLIGHT
TZOFFSETFROM:-0500
TZOFFSETTO:-0400
TZNAME:EDT
DTSTART:20240310T070000
END:DAYLIGHT
BEGIN:STANDARD
TZOFFSETFROM:-0400
TZOFFSETTO:-0500
TZNAME:EST
DTSTART:20241103T060000
END:STANDARD
BEGIN:DAYLIGHT
TZOFFSETFROM:-0500
TZOFFSETTO:-0400
TZNAME:EDT
DTSTART:20250309T070000
END:DAYLIGHT
BEGIN:STANDARD
TZOFFSETFROM:-0400
TZOFFSETTO:-0500
TZNAME:EST
DTSTART:20251102T060000
END:STANDARD
BEGIN:DAYLIGHT
TZOFFSETFROM:-0500
TZOFFSETTO:-0400
TZNAME:EDT
DTSTART:20260308T070000
END:DAYLIGHT
BEGIN:STANDARD
TZOFFSETFROM:-0400
TZOFFSETTO:-0500
TZNAME:EST
DTSTART:20261101T060000
END:STANDARD
END:VTIMEZONE
BEGIN:VEVENT
DTSTART;TZID=America/Toronto:20250819T083000
DTEND;TZID=America/Toronto:20250819T123000
DTSTAMP:20260421T181805
CREATED:20250716T173122Z
LAST-MODIFIED:20250716T173122Z
UID:10002688-1755592200-1755606600@staging.communitylivingowensound.com
SUMMARY:Keady Market
DESCRIPTION:Keady Market\nDate: Tuesday\, August 19 Time: 8:30am-12pm Cost: $46\nRSVP by: August 5 \n  \nSpend the morning exploring the bustling Keady Market\, filled with local produce\, handmade goods\, baked treats\, and unique finds. Enjoy the lively atmosphere\, meet local vendors\, and maybe take home something special!
URL:https://staging.communitylivingowensound.com/event/keady-market-12/
CATEGORIES:Passport
ATTACH;FMTTYPE=image/jpeg:https://staging.communitylivingowensound.com/wp-content/uploads/2024/04/keady-market.jpg
END:VEVENT
BEGIN:VEVENT
DTSTART;TZID=America/Toronto:20250819T093000
DTEND;TZID=America/Toronto:20250819T113000
DTSTAMP:20260421T181805
CREATED:20250716T173300Z
LAST-MODIFIED:20250716T173300Z
UID:10002689-1755595800-1755603000@staging.communitylivingowensound.com
SUMMARY:Cherry Muffins – Baking Class
DESCRIPTION:Cherry Muffins – Baking Class \nDate: Tuesday\, August 19 Time: 9:30-11:30am\nCost: $35 \nRSVP by: July 21 \nWhip up delicious cherry muffins in our Cherry Muffin Baking Class\, where you’ll learn to bake fluffy\, fruity treats from scratch. Enjoy warm aromas\, expert tips on mixing and baking\, and take home a fresh batch to share—or savor all by yourself! \n \n 
URL:https://staging.communitylivingowensound.com/event/cherry-muffins-baking-class/
CATEGORIES:Passport
ATTACH;FMTTYPE=image/jpeg:https://staging.communitylivingowensound.com/wp-content/uploads/2025/07/cherry-muffins.jpg
END:VEVENT
BEGIN:VEVENT
DTSTART;TZID=America/Toronto:20250819T133000
DTEND;TZID=America/Toronto:20250819T163000
DTSTAMP:20260421T181805
CREATED:20250716T173447Z
LAST-MODIFIED:20250716T173447Z
UID:10002690-1755610200-1755621000@staging.communitylivingowensound.com
SUMMARY:Putterama Mini Putt
DESCRIPTION:Putterama Mini Putt\nDate: Tuesday\, August 19 Time: 1:30-4:30pm\nCost: $45 \nRSVP by: July 29 \n  \nSpend a summer evening at Putterama Mini Golf in Sauble Beach\, a family-favorite since 1965\, just one block south of Main Street on 3rd Avenue. Enjoy 18 playful\, creative holes among the trees—perfect for a laid-back outing with friends or family in a charming lakeside setting
URL:https://staging.communitylivingowensound.com/event/putterama-mini-putt/
CATEGORIES:Passport
ATTACH;FMTTYPE=image/png:https://staging.communitylivingowensound.com/wp-content/uploads/2025/05/mini-golf.png
END:VEVENT
BEGIN:VEVENT
DTSTART;TZID=America/Toronto:20250819T170000
DTEND;TZID=America/Toronto:20250819T210000
DTSTAMP:20260421T181805
CREATED:20250716T170745Z
LAST-MODIFIED:20250716T170745Z
UID:10002675-1755622800-1755637200@staging.communitylivingowensound.com
SUMMARY:Sauble Beach Car Show
DESCRIPTION:Sauble Beach Car Show \nDate: Tuesday\, August 19 Time: 5-9pm \nCost: $47 \nRSVP by: July 28 \nJoin us for a special outing to the Sauble Beach Classic Car Show\, where hundreds of vintage cars\, hot rods\, and muscle machines line the lakeside streets. Enjoy live entertainment\, beach views\, and a relaxed evening taking in the sights\, sounds\, and stories
URL:https://staging.communitylivingowensound.com/event/sauble-beach-car-show/
CATEGORIES:Passport
ATTACH;FMTTYPE=image/png:https://staging.communitylivingowensound.com/wp-content/uploads/2025/05/car-show.png
END:VEVENT
END:VCALENDAR