BEGIN:VCALENDAR
VERSION:2.0
PRODID:-//Community Living Owen Sound and District - ECPv6.15.11//NONSGML v1.0//EN
CALSCALE:GREGORIAN
METHOD:PUBLISH
X-ORIGINAL-URL:https://staging.communitylivingowensound.com
X-WR-CALDESC:Events for Community Living Owen Sound and District
REFRESH-INTERVAL;VALUE=DURATION:PT1H
X-Robots-Tag:noindex
X-PUBLISHED-TTL:PT1H
BEGIN:VTIMEZONE
TZID:America/Toronto
BEGIN:DAYLIGHT
TZOFFSETFROM:-0500
TZOFFSETTO:-0400
TZNAME:EDT
DTSTART:20230312T070000
END:DAYLIGHT
BEGIN:STANDARD
TZOFFSETFROM:-0400
TZOFFSETTO:-0500
TZNAME:EST
DTSTART:20231105T060000
END:STANDARD
BEGIN:DAYLIGHT
TZOFFSETFROM:-0500
TZOFFSETTO:-0400
TZNAME:EDT
DTSTART:20240310T070000
END:DAYLIGHT
BEGIN:STANDARD
TZOFFSETFROM:-0400
TZOFFSETTO:-0500
TZNAME:EST
DTSTART:20241103T060000
END:STANDARD
BEGIN:DAYLIGHT
TZOFFSETFROM:-0500
TZOFFSETTO:-0400
TZNAME:EDT
DTSTART:20250309T070000
END:DAYLIGHT
BEGIN:STANDARD
TZOFFSETFROM:-0400
TZOFFSETTO:-0500
TZNAME:EST
DTSTART:20251102T060000
END:STANDARD
END:VTIMEZONE
BEGIN:VEVENT
DTSTART;TZID=America/Toronto:20240412T090000
DTEND;TZID=America/Toronto:20240412T120000
DTSTAMP:20260421T165647
CREATED:20240304T153817Z
LAST-MODIFIED:20240304T153817Z
UID:10000187-1712912400-1712923200@staging.communitylivingowensound.com
SUMMARY:Soap Making (Port Elgin)
DESCRIPTION:Friday April 12 2024\nSoap Making- PE OFFICE\, PORT ELGIN- $40 per person  \nLearn how to make your own scented soap!\n9am – 12pm\nRSVP to Lisa Penny by March 20th @   lpenny@comlivos.on.ca
URL:https://staging.communitylivingowensound.com/event/soap-making-port-elgin/
CATEGORIES:Passport
ATTACH;FMTTYPE=image/jpeg:https://staging.communitylivingowensound.com/wp-content/uploads/2024/03/soap-making.jpg
END:VEVENT
BEGIN:VEVENT
DTSTART;TZID=America/Toronto:20240415T090000
DTEND;TZID=America/Toronto:20240415T120000
DTSTAMP:20260421T165647
CREATED:20240304T154901Z
LAST-MODIFIED:20240304T154901Z
UID:10000190-1713171600-1713182400@staging.communitylivingowensound.com
SUMMARY:Crochet for Beginners (Port Elgin)
DESCRIPTION:Monday April 15 2024\nCrochet for Beginners- PE OFFICE\, PORT ELGIN- $40 per person  \nCome learn how to crochet!  No experience necessary!\n9am – 12 pm\nRSVP to Lisa Penny by March 20th   @   lpenny@comlivos.on.ca
URL:https://staging.communitylivingowensound.com/event/crochet-for-beginners-port-elgin/
CATEGORIES:Passport
ATTACH;FMTTYPE=image/jpeg:https://staging.communitylivingowensound.com/wp-content/uploads/2024/03/crochet.jpg
END:VEVENT
BEGIN:VEVENT
DTSTART;TZID=America/Toronto:20240415T100000
DTEND;TZID=America/Toronto:20240415T120000
DTSTAMP:20260421T165647
CREATED:20240304T155402Z
LAST-MODIFIED:20240304T155402Z
UID:10000193-1713175200-1713182400@staging.communitylivingowensound.com
SUMMARY:Tie Dye T-Shirt Making
DESCRIPTION:Monday April 15 2024\nTie Dye- MAIN OFFICE\, OWEN SOUND- $46 per person  \nCome make a tie dye t-shirt! Please RSVP with the size of your shirt you will need. Shirts will be picked up at a later date once dry.\n10am – 12pm\nRSVP to Sierra Ellis  by  April 2nd    @   sellis@comlivos.on.ca
URL:https://staging.communitylivingowensound.com/event/tie-dye-t-shirt-making/
CATEGORIES:Passport
ATTACH;FMTTYPE=image/jpeg:https://staging.communitylivingowensound.com/wp-content/uploads/2024/03/tie-dye.jpg
END:VEVENT
BEGIN:VEVENT
DTSTART;TZID=America/Toronto:20240417T130000
DTEND;TZID=America/Toronto:20240417T140000
DTSTAMP:20260421T165647
CREATED:20240304T155739Z
LAST-MODIFIED:20240304T155739Z
UID:10000195-1713358800-1713362400@staging.communitylivingowensound.com
SUMMARY:DIY Birdhouse Making
DESCRIPTION:Wednesday April 17 2024\nDIY Birdhouse-MAIN OFFICE\, OWEN SOUND- $40 per person  \nBuild your own bird house!\n1pm – 2pm\nRSVP to Jackie Santos @   jsantos@comlivos.on.ca
URL:https://staging.communitylivingowensound.com/event/diy-birdhouse-making/
CATEGORIES:Passport
ATTACH;FMTTYPE=image/jpeg:https://staging.communitylivingowensound.com/wp-content/uploads/2024/03/diy-birdhouse.jpg
END:VEVENT
BEGIN:VEVENT
DTSTART;TZID=America/Toronto:20240418T130000
DTEND;TZID=America/Toronto:20240418T153000
DTSTAMP:20260421T165647
CREATED:20240304T155916Z
LAST-MODIFIED:20240304T155916Z
UID:10000196-1713445200-1713454200@staging.communitylivingowensound.com
SUMMARY:Daisy's Clay House: Pottery Painting
DESCRIPTION:Thursday April 18 2024\nDaisy Clay House- DAISYS\, OWEN SOUND- $70 per person  \nCome spend the afternoon painting pottery at Daisy’s Clay House.\n1pm – 3:30pm\nRSVP to Sierra Ellis by April 4th  @   sellis@comlivos.on.ca \n 
URL:https://staging.communitylivingowensound.com/event/daisys-clay-house-pottery-painting/
CATEGORIES:Passport
ATTACH;FMTTYPE=image/jpeg:https://staging.communitylivingowensound.com/wp-content/uploads/2024/03/daisys-clay-house.jpg
END:VEVENT
BEGIN:VEVENT
DTSTART;TZID=America/Toronto:20240422T090000
DTEND;TZID=America/Toronto:20240422T120000
DTSTAMP:20260421T165647
CREATED:20240304T160806Z
LAST-MODIFIED:20240304T160806Z
UID:10000200-1713776400-1713787200@staging.communitylivingowensound.com
SUMMARY:Tie Dye Bags: DIY (Port Elgin)
DESCRIPTION:Monday April 22 2024\nTie Dye Bags-  PE OFFICE\, PORT ELGIN- $40 per person  \nEnjoy making a tie dye tote bag that is uniquely yours!\n9am – 12pm\nRSVP to Lisa Penny by March 20th @  lpenny@comlivos.on.ca
URL:https://staging.communitylivingowensound.com/event/tie-dye-bags-diy-port-elgin/
CATEGORIES:Passport
ATTACH;FMTTYPE=image/jpeg:https://staging.communitylivingowensound.com/wp-content/uploads/2024/03/tie-dye-bags.jpg
END:VEVENT
BEGIN:VEVENT
DTSTART;TZID=America/Toronto:20240422T130000
DTEND;TZID=America/Toronto:20240422T143000
DTSTAMP:20260421T165647
CREATED:20240304T162003Z
LAST-MODIFIED:20240304T162003Z
UID:10000202-1713790800-1713796200@staging.communitylivingowensound.com
SUMMARY:Jewelry Making
DESCRIPTION:Monday April 22 2024\nJewelry Making- MAIN OFFICE\, OWEN SOUND- $18 per person  \nLearn how to make your very own unique and beautiful resin earrings or pendants.\n1pm – 2:30pm\nRSVP to Jackie Santos @   jsantos@comlivos.on.ca
URL:https://staging.communitylivingowensound.com/event/jewelry-making/
CATEGORIES:Passport
ATTACH;FMTTYPE=image/jpeg:https://staging.communitylivingowensound.com/wp-content/uploads/2024/03/jewelry-making.jpg
END:VEVENT
END:VCALENDAR