BEGIN:VCALENDAR
VERSION:2.0
PRODID:-//Community Living Owen Sound and District - ECPv6.15.11//NONSGML v1.0//EN
CALSCALE:GREGORIAN
METHOD:PUBLISH
X-ORIGINAL-URL:https://staging.communitylivingowensound.com
X-WR-CALDESC:Events for Community Living Owen Sound and District
REFRESH-INTERVAL;VALUE=DURATION:PT1H
X-Robots-Tag:noindex
X-PUBLISHED-TTL:PT1H
BEGIN:VTIMEZONE
TZID:America/Toronto
BEGIN:DAYLIGHT
TZOFFSETFROM:-0500
TZOFFSETTO:-0400
TZNAME:EDT
DTSTART:20230312T070000
END:DAYLIGHT
BEGIN:STANDARD
TZOFFSETFROM:-0400
TZOFFSETTO:-0500
TZNAME:EST
DTSTART:20231105T060000
END:STANDARD
BEGIN:DAYLIGHT
TZOFFSETFROM:-0500
TZOFFSETTO:-0400
TZNAME:EDT
DTSTART:20240310T070000
END:DAYLIGHT
BEGIN:STANDARD
TZOFFSETFROM:-0400
TZOFFSETTO:-0500
TZNAME:EST
DTSTART:20241103T060000
END:STANDARD
BEGIN:DAYLIGHT
TZOFFSETFROM:-0500
TZOFFSETTO:-0400
TZNAME:EDT
DTSTART:20250309T070000
END:DAYLIGHT
BEGIN:STANDARD
TZOFFSETFROM:-0400
TZOFFSETTO:-0500
TZNAME:EST
DTSTART:20251102T060000
END:STANDARD
END:VTIMEZONE
BEGIN:VEVENT
DTSTART;TZID=America/Toronto:20240212T130000
DTEND;TZID=America/Toronto:20240212T150000
DTSTAMP:20260423T095858
CREATED:20240207T162143Z
LAST-MODIFIED:20240207T195803Z
UID:10000016-1707742800-1707750000@staging.communitylivingowensound.com
SUMMARY:Embroidery for Beginners
DESCRIPTION:Monday February 12 2024\nEmbroidery- PORT ELGIN OFFICE- $TBD per person  \nThis is a create class for beginners!  Learn how to embroider using your own kit with cute patterns such as cats and flowers.  You can make something special for yourself or give it to as a gift.\n1pm – 3pm\nRSVP to Lisa Penny by January 19th @  lpenny@comlivos.on.ca \n 
URL:https://staging.communitylivingowensound.com/event/embroidery-for-beginners/
CATEGORIES:Passport
ATTACH;FMTTYPE=image/jpeg:https://staging.communitylivingowensound.com/wp-content/uploads/2024/02/embroidery.jpg
END:VEVENT
BEGIN:VEVENT
DTSTART;TZID=America/Toronto:20240226T130000
DTEND;TZID=America/Toronto:20240226T150000
DTSTAMP:20260423T095858
CREATED:20240207T183711Z
LAST-MODIFIED:20240207T195723Z
UID:10000027-1708952400-1708959600@staging.communitylivingowensound.com
SUMMARY:Candle Making Class (Port Elgin)
DESCRIPTION:Monday February 26 2024\nCandle Making Class- PORT ELGIN OFFICE- $TBD per person  \nCreate your own unique candle. Perfect for personal use\, a birthday gift\, or special occasion.\n1pm – 3pm\nRSVP to Lisa Penny by January 19th @     lpenny@comlivos.on.ca
URL:https://staging.communitylivingowensound.com/event/candle-making-class-port-elgin/
CATEGORIES:Passport
ATTACH;FMTTYPE=image/jpeg:https://staging.communitylivingowensound.com/wp-content/uploads/2024/02/Candle-making.jpg
END:VEVENT
END:VCALENDAR