BEGIN:VCALENDAR
VERSION:2.0
PRODID:-//Community Living Owen Sound and District - ECPv6.15.11//NONSGML v1.0//EN
CALSCALE:GREGORIAN
METHOD:PUBLISH
X-ORIGINAL-URL:https://staging.communitylivingowensound.com
X-WR-CALDESC:Events for Community Living Owen Sound and District
REFRESH-INTERVAL;VALUE=DURATION:PT1H
X-Robots-Tag:noindex
X-PUBLISHED-TTL:PT1H
BEGIN:VTIMEZONE
TZID:America/Toronto
BEGIN:DAYLIGHT
TZOFFSETFROM:-0500
TZOFFSETTO:-0400
TZNAME:EDT
DTSTART:20230312T070000
END:DAYLIGHT
BEGIN:STANDARD
TZOFFSETFROM:-0400
TZOFFSETTO:-0500
TZNAME:EST
DTSTART:20231105T060000
END:STANDARD
BEGIN:DAYLIGHT
TZOFFSETFROM:-0500
TZOFFSETTO:-0400
TZNAME:EDT
DTSTART:20240310T070000
END:DAYLIGHT
BEGIN:STANDARD
TZOFFSETFROM:-0400
TZOFFSETTO:-0500
TZNAME:EST
DTSTART:20241103T060000
END:STANDARD
BEGIN:DAYLIGHT
TZOFFSETFROM:-0500
TZOFFSETTO:-0400
TZNAME:EDT
DTSTART:20250309T070000
END:DAYLIGHT
BEGIN:STANDARD
TZOFFSETFROM:-0400
TZOFFSETTO:-0500
TZNAME:EST
DTSTART:20251102T060000
END:STANDARD
END:VTIMEZONE
BEGIN:VEVENT
DTSTART;TZID=America/Toronto:20240509T100000
DTEND;TZID=America/Toronto:20240509T120000
DTSTAMP:20260420T114256
CREATED:20240404T160200Z
LAST-MODIFIED:20240404T160200Z
UID:10000221-1715248800-1715256000@staging.communitylivingowensound.com
SUMMARY:Diamond Dots Coaster Making
DESCRIPTION:Thursday May 9 2024\nDiamond Dots Cup Coaster- PE OFFICE\, PORT ELGIN- $50 per person  \nIf you love diamond dots\, then you will love this craft class!  Join us as we be-dazzle cup coasters using diamond dots.\n10am – 12pm\nRSVP to Lisa Penny by  April 20th    @   lpenny@comlivos.on.ca
URL:https://staging.communitylivingowensound.com/event/diamond-dots-coaster-making/
CATEGORIES:Passport
ATTACH;FMTTYPE=image/jpeg:https://staging.communitylivingowensound.com/wp-content/uploads/2024/04/diamond-dots-coasters.jpg
END:VEVENT
BEGIN:VEVENT
DTSTART;TZID=America/Toronto:20240513T090000
DTEND;TZID=America/Toronto:20240513T113000
DTSTAMP:20260420T114256
CREATED:20240404T172509Z
LAST-MODIFIED:20240404T172509Z
UID:10000228-1715590800-1715599800@staging.communitylivingowensound.com
SUMMARY:DIY Soap Making
DESCRIPTION:Monday May 13 2024\nDIY Soap Making- MAIN OFFICE\, OWEN SOUND- $42 per person  \nJoin us for a morning of making glycerin based soap bars.  You get to choose your own scent so that your bar is perfect for you!\n9am – 11:30am\nRSVP to Sierra Ellis by April 30th  @   sellis@comlivos.on.ca
URL:https://staging.communitylivingowensound.com/event/diy-soap-making/
CATEGORIES:Passport
ATTACH;FMTTYPE=image/jpeg:https://staging.communitylivingowensound.com/wp-content/uploads/2024/03/soap-making.jpg
END:VEVENT
BEGIN:VEVENT
DTSTART;TZID=America/Toronto:20240513T130000
DTEND;TZID=America/Toronto:20240513T150000
DTSTAMP:20260420T114256
CREATED:20240404T172655Z
LAST-MODIFIED:20240404T172655Z
UID:10000229-1715605200-1715612400@staging.communitylivingowensound.com
SUMMARY:DIY Felt Succulents
DESCRIPTION:Monday May 13 2024\nDIY Felt Succulents-MAIN OFFICE\, OWEN SOUND- $55 per person  \nLearn how to make succulents using the art of felting.\n1pm – 3pm\nRSVP to Sierra Ellis by April 30th  @   sellis@comlivos.on.ca
URL:https://staging.communitylivingowensound.com/event/diy-felt-succulents/
CATEGORIES:Passport
ATTACH;FMTTYPE=image/jpeg:https://staging.communitylivingowensound.com/wp-content/uploads/2024/04/felt-succulents.jpg
END:VEVENT
BEGIN:VEVENT
DTSTART;TZID=America/Toronto:20240531T100000
DTEND;TZID=America/Toronto:20240531T120000
DTSTAMP:20260420T114256
CREATED:20240404T181259Z
LAST-MODIFIED:20240404T181259Z
UID:10000241-1717149600-1717156800@staging.communitylivingowensound.com
SUMMARY:DIY Moccasins (Port Elgin)
DESCRIPTION:Friday May 31 2024\nDIY Moccasins- PE OFFICE\, PORT ELGIN- $70 per person  \nLearn how to make your very own leather moccasin!\n10am – 12pm\nRSVP to Lisa Penny  by May 13th   @   lpenny@comlivos.on.ca
URL:https://staging.communitylivingowensound.com/event/diy-moccasins-port-elgin/
CATEGORIES:Passport
ATTACH;FMTTYPE=image/jpeg:https://staging.communitylivingowensound.com/wp-content/uploads/2024/04/diy-moccassins.jpg
END:VEVENT
END:VCALENDAR