BEGIN:VCALENDAR
VERSION:2.0
PRODID:-//Community Living Owen Sound and District - ECPv6.15.11//NONSGML v1.0//EN
CALSCALE:GREGORIAN
METHOD:PUBLISH
X-ORIGINAL-URL:https://staging.communitylivingowensound.com
X-WR-CALDESC:Events for Community Living Owen Sound and District
REFRESH-INTERVAL;VALUE=DURATION:PT1H
X-Robots-Tag:noindex
X-PUBLISHED-TTL:PT1H
BEGIN:VTIMEZONE
TZID:America/Toronto
BEGIN:DAYLIGHT
TZOFFSETFROM:-0500
TZOFFSETTO:-0400
TZNAME:EDT
DTSTART:20230312T070000
END:DAYLIGHT
BEGIN:STANDARD
TZOFFSETFROM:-0400
TZOFFSETTO:-0500
TZNAME:EST
DTSTART:20231105T060000
END:STANDARD
BEGIN:DAYLIGHT
TZOFFSETFROM:-0500
TZOFFSETTO:-0400
TZNAME:EDT
DTSTART:20240310T070000
END:DAYLIGHT
BEGIN:STANDARD
TZOFFSETFROM:-0400
TZOFFSETTO:-0500
TZNAME:EST
DTSTART:20241103T060000
END:STANDARD
BEGIN:DAYLIGHT
TZOFFSETFROM:-0500
TZOFFSETTO:-0400
TZNAME:EDT
DTSTART:20250309T070000
END:DAYLIGHT
BEGIN:STANDARD
TZOFFSETFROM:-0400
TZOFFSETTO:-0500
TZNAME:EST
DTSTART:20251102T060000
END:STANDARD
END:VTIMEZONE
BEGIN:VEVENT
DTSTART;TZID=America/Toronto:20240731T080000
DTEND;TZID=America/Toronto:20240731T170000
DTSTAMP:20260424T035149
CREATED:20240612T135240Z
LAST-MODIFIED:20240612T135240Z
UID:10000361-1722412800-1722445200@staging.communitylivingowensound.com
SUMMARY:Movie Night
DESCRIPTION:Wednesday July 31 2024\nMovie Night- GALAXY CINEMAS\, OWEN SOUND- $45 per person  \nJoin us to see Ryan Reynolds as Deadpool in the newest movie out! 18- A rating due to violence\, profanity and mature humour.\nTime TBD
URL:https://staging.communitylivingowensound.com/event/movie-night-5/
CATEGORIES:Passport
ATTACH;FMTTYPE=image/jpeg:https://staging.communitylivingowensound.com/wp-content/uploads/2024/05/Movie-Night.jpg
END:VEVENT
BEGIN:VEVENT
DTSTART;TZID=America/Toronto:20240731T110000
DTEND;TZID=America/Toronto:20240731T160000
DTSTAMP:20260424T035149
CREATED:20240612T135448Z
LAST-MODIFIED:20240612T135448Z
UID:10000362-1722423600-1722441600@staging.communitylivingowensound.com
SUMMARY:Chantry Island Boat Tour
DESCRIPTION:Wednesday July 31 2024\nChantry Island Boat Tour- MAIN OFFICE\, OWEN SOUND- $100 per person  \nBring a picnic lunch as we will not be stopping to buy lunch.  We will then board the boat to Chantry Island where we will disembark to explore the island; bird sanctuary and lighthouse.  If it rains\, the tour will be re-scheduled.\n11am – 4:30pm
URL:https://staging.communitylivingowensound.com/event/chantry-island-boat-tour/
CATEGORIES:Passport
ATTACH;FMTTYPE=image/jpeg:https://staging.communitylivingowensound.com/wp-content/uploads/2024/04/drop-off-tour.jpg
END:VEVENT
BEGIN:VEVENT
DTSTART;TZID=America/Toronto:20240731T130000
DTEND;TZID=America/Toronto:20240731T160000
DTSTAMP:20260424T035149
CREATED:20240510T142441Z
LAST-MODIFIED:20250612T173603Z
UID:10000250-1722430800-1722441600@staging.communitylivingowensound.com
SUMMARY:The Great Outdoors
DESCRIPTION:Wednesday June 5\, 12\, 19\, 26 2024\nThe Great Outdoors Exploration- MAIN OFFICE\, OWEN SOUND- $100 per person  \nThis is a 4-week activity for the month of June!  Enjoy the great outdoors on Wednesday afternoons!  We will hike different trails; visit Bognor Marsh; look for different birds; turtles; and look for butterflies while in a butterfly garden!\n1pm – 4pm\nRSVP to Marsha Blum  @   mblum@comlivos.on.ca
URL:https://staging.communitylivingowensound.com/event/the-great-outdoors/2024-07-31/
CATEGORIES:Passport
ATTACH;FMTTYPE=image/jpeg:https://staging.communitylivingowensound.com/wp-content/uploads/2024/05/The-Great-Outdoors.jpg
END:VEVENT
END:VCALENDAR