BEGIN:VCALENDAR
VERSION:2.0
PRODID:-//Community Living Owen Sound and District - ECPv6.15.11//NONSGML v1.0//EN
CALSCALE:GREGORIAN
METHOD:PUBLISH
X-WR-CALNAME:Community Living Owen Sound and District
X-ORIGINAL-URL:https://staging.communitylivingowensound.com
X-WR-CALDESC:Events for Community Living Owen Sound and District
REFRESH-INTERVAL;VALUE=DURATION:PT1H
X-Robots-Tag:noindex
X-PUBLISHED-TTL:PT1H
BEGIN:VTIMEZONE
TZID:America/Toronto
BEGIN:DAYLIGHT
TZOFFSETFROM:-0500
TZOFFSETTO:-0400
TZNAME:EDT
DTSTART:20240310T070000
END:DAYLIGHT
BEGIN:STANDARD
TZOFFSETFROM:-0400
TZOFFSETTO:-0500
TZNAME:EST
DTSTART:20241103T060000
END:STANDARD
BEGIN:DAYLIGHT
TZOFFSETFROM:-0500
TZOFFSETTO:-0400
TZNAME:EDT
DTSTART:20250309T070000
END:DAYLIGHT
BEGIN:STANDARD
TZOFFSETFROM:-0400
TZOFFSETTO:-0500
TZNAME:EST
DTSTART:20251102T060000
END:STANDARD
BEGIN:DAYLIGHT
TZOFFSETFROM:-0500
TZOFFSETTO:-0400
TZNAME:EDT
DTSTART:20260308T070000
END:DAYLIGHT
BEGIN:STANDARD
TZOFFSETFROM:-0400
TZOFFSETTO:-0500
TZNAME:EST
DTSTART:20261101T060000
END:STANDARD
END:VTIMEZONE
BEGIN:VEVENT
DTSTART;TZID=America/Toronto:20250505T100000
DTEND;TZID=America/Toronto:20250505T120000
DTSTAMP:20260421T000316
CREATED:20250318T171741Z
LAST-MODIFIED:20250318T171741Z
UID:10002019-1746439200-1746446400@staging.communitylivingowensound.com
SUMMARY:Smoothies and Strolls (PE)
DESCRIPTION:AM – Smoothies & Stroll: Meet us at Link by the Shore for a fresh smoothie each week\, followed by a short walk in our neighbourhood.
URL:https://staging.communitylivingowensound.com/event/smoothies-and-strolls-pe/2025-05-05/
CATEGORIES:Community Participation
ATTACH;FMTTYPE=image/jpeg:https://staging.communitylivingowensound.com/wp-content/uploads/2025/03/smoothie-stroll.jpg
END:VEVENT
BEGIN:VEVENT
DTSTART;TZID=America/Toronto:20250505T140000
DTEND;TZID=America/Toronto:20250505T150000
DTSTAMP:20260421T000316
CREATED:20250318T171926Z
LAST-MODIFIED:20250318T171926Z
UID:10002030-1746453600-1746457200@staging.communitylivingowensound.com
SUMMARY:Sign Language (PE)
DESCRIPTION:PM – Sign Language: Join us at Link by the Shore as we learn how to communicate with sign language! Instructor Andrea Wist will teach us new signs each week. This will begin on March 10.
URL:https://staging.communitylivingowensound.com/event/sign-language-pe/2025-05-05/
CATEGORIES:Community Participation
ATTACH;FMTTYPE=image/jpeg:https://staging.communitylivingowensound.com/wp-content/uploads/2025/03/sign-language.jpg
END:VEVENT
END:VCALENDAR