BEGIN:VCALENDAR
VERSION:2.0
PRODID:-//Community Living Owen Sound and District - ECPv6.15.11//NONSGML v1.0//EN
CALSCALE:GREGORIAN
METHOD:PUBLISH
X-WR-CALNAME:Community Living Owen Sound and District
X-ORIGINAL-URL:https://staging.communitylivingowensound.com
X-WR-CALDESC:Events for Community Living Owen Sound and District
REFRESH-INTERVAL;VALUE=DURATION:PT1H
X-Robots-Tag:noindex
X-PUBLISHED-TTL:PT1H
BEGIN:VTIMEZONE
TZID:America/Toronto
BEGIN:DAYLIGHT
TZOFFSETFROM:-0500
TZOFFSETTO:-0400
TZNAME:EDT
DTSTART:20230312T070000
END:DAYLIGHT
BEGIN:STANDARD
TZOFFSETFROM:-0400
TZOFFSETTO:-0500
TZNAME:EST
DTSTART:20231105T060000
END:STANDARD
BEGIN:DAYLIGHT
TZOFFSETFROM:-0500
TZOFFSETTO:-0400
TZNAME:EDT
DTSTART:20240310T070000
END:DAYLIGHT
BEGIN:STANDARD
TZOFFSETFROM:-0400
TZOFFSETTO:-0500
TZNAME:EST
DTSTART:20241103T060000
END:STANDARD
BEGIN:DAYLIGHT
TZOFFSETFROM:-0500
TZOFFSETTO:-0400
TZNAME:EDT
DTSTART:20250309T070000
END:DAYLIGHT
BEGIN:STANDARD
TZOFFSETFROM:-0400
TZOFFSETTO:-0500
TZNAME:EST
DTSTART:20251102T060000
END:STANDARD
END:VTIMEZONE
BEGIN:VEVENT
DTSTART;TZID=America/Toronto:20240620T183000
DTEND;TZID=America/Toronto:20240620T223000
DTSTAMP:20260423T095029
CREATED:20240510T155832Z
LAST-MODIFIED:20240510T155832Z
UID:10000323-1718908200-1718922600@staging.communitylivingowensound.com
SUMMARY:Grand Evolution: The Best of Journey and Styx
DESCRIPTION:Thursday June 20 2024\nGrand Evolution- the best of Journey and Styx- ROXY THEATER\, OWEN SOUND- $95 per person  \nCome rock out to the music of Styx and Journey! A tribute to two incredible bands!\n6:30pm – 10:30pm\nRSVP to Marsha Blum by June 14th  @  mblum@comlivos.on.ca
URL:https://staging.communitylivingowensound.com/event/grand-evolution-the-best-of-journey-and-styx/
CATEGORIES:Passport
ATTACH;FMTTYPE=image/jpeg:https://staging.communitylivingowensound.com/wp-content/uploads/2024/05/Live-Music-Journey-and-Styx.jpg
END:VEVENT
END:VCALENDAR